BEGIN:VCALENDAR
VERSION:2.0
PRODID:-//127.0.1.1//NONSGML kigkonsult.se iCalcreator 2.41.92//
CALSCALE:GREGORIAN
METHOD:PUBLISH
UID:65323238-6363-4566-a263-646637636465
X-WR-CALNAME:Side-Channel Attacks and Defenses Calendar
X-WR-CALDESC:Events of the lecture Side-Channel Attacks and Defenses
X-WR-TIMEZONE:Europe/Berlin
BEGIN:VEVENT
UID:61346162-3363-4331-b263-376130303631
DTSTAMP:20260425T033603Z
DESCRIPTION:
DTSTART:20201103T090000Z
DTEND:20201103T110000Z
SUMMARY:Introduction
END:VEVENT
BEGIN:VEVENT
UID:63356335-6161-4864-a662-633938303166
DTSTAMP:20260425T033603Z
DESCRIPTION:
DTSTART:20201110T090000Z
DTEND:20201110T110000Z
SUMMARY:Timing Side Channels
END:VEVENT
BEGIN:VEVENT
UID:63326336-3264-4535-a430-636634333038
DTSTAMP:20260425T033603Z
DESCRIPTION:
DTSTART:20201117T090000Z
DTEND:20201117T110000Z
SUMMARY:Introduction to Microarchitecture
END:VEVENT
BEGIN:VEVENT
UID:62636366-6332-4530-a464-643765373138
DTSTAMP:20260425T033603Z
DESCRIPTION:
DTSTART:20201124T090000Z
DTEND:20201124T110000Z
SUMMARY:Cache Attacks I
END:VEVENT
BEGIN:VEVENT
UID:63663562-6338-4264-b734-383664623433
DTSTAMP:20260425T033603Z
DESCRIPTION:
DTSTART:20201201T090000Z
DTEND:20201201T110000Z
SUMMARY:Cache Attacks II
END:VEVENT
BEGIN:VEVENT
UID:34343731-3131-4461-b236-663432363436
DTSTAMP:20260425T033603Z
DESCRIPTION:
DTSTART:20201208T090000Z
DTEND:20201208T110000Z
SUMMARY:Page Table Attacks
END:VEVENT
BEGIN:VEVENT
UID:62353834-3439-4534-b562-386664356364
DTSTAMP:20260425T033603Z
DESCRIPTION:
DTSTART:20201215T090000Z
DTEND:20201215T110000Z
SUMMARY:Transient Execution Attacks I
END:VEVENT
BEGIN:VEVENT
UID:35646638-3865-4064-a434-393635373966
DTSTAMP:20260425T033603Z
DESCRIPTION:
DTSTART;VALUE=DATE:20201220
DTEND;VALUE=DATE:20201221
SUMMARY:Practical 1 Deadline
END:VEVENT
BEGIN:VEVENT
UID:33393130-6635-4332-b436-343434633161
DTSTAMP:20260425T033603Z
DESCRIPTION:
DTSTART:20210105T090000Z
DTEND:20210105T110000Z
SUMMARY:Transient Execution Attacks II
END:VEVENT
BEGIN:VEVENT
UID:35376365-6566-4430-b134-636537336466
DTSTAMP:20260425T033603Z
DESCRIPTION:
DTSTART;VALUE=DATE:20210110
DTEND;VALUE=DATE:20210111
SUMMARY:Practical 2 Deadline
END:VEVENT
BEGIN:VEVENT
UID:33316635-3031-4537-b033-323236326336
DTSTAMP:20260425T033603Z
DESCRIPTION:
DTSTART:20210112T090000Z
DTEND:20210112T110000Z
SUMMARY:Mitigations
END:VEVENT
BEGIN:VEVENT
UID:38383365-6665-4230-b664-623638646434
DTSTAMP:20260425T033603Z
DESCRIPTION:
DTSTART:20210119T090000Z
DTEND:20210119T110000Z
SUMMARY:Automation and Frameworks
END:VEVENT
BEGIN:VEVENT
UID:31346633-6538-4037-a334-623661356338
DTSTAMP:20260425T033603Z
DESCRIPTION:
DTSTART:20210126T090000Z
DTEND:20210126T110000Z
SUMMARY:Other Side Channels and Fault Attacks
END:VEVENT
BEGIN:VEVENT
UID:66383336-3639-4466-b238-373239353930
DTSTAMP:20260425T033603Z
DESCRIPTION:
DTSTART;VALUE=DATE:20210131
DTEND;VALUE=DATE:20210201
SUMMARY:Practical 3 Deadline
END:VEVENT
END:VCALENDAR
