BEGIN:VCALENDAR
VERSION:2.0
PRODID:-//127.0.1.1//NONSGML kigkonsult.se iCalcreator 2.41.92//
CALSCALE:GREGORIAN
METHOD:PUBLISH
UID:30613665-3164-4566-a237-333963363136
X-WR-CALNAME:Side-Channel Attacks and Defenses Calendar
X-WR-CALDESC:Events of the lecture Side-Channel Attacks and Defenses
X-WR-TIMEZONE:Europe/Berlin
BEGIN:VEVENT
UID:35633834-6330-4137-a532-383137356364
DTSTAMP:20260425T033856Z
DESCRIPTION:
DTSTART:20201103T090000Z
DTEND:20201103T110000Z
SUMMARY:Scad20: Introduction
END:VEVENT
BEGIN:VEVENT
UID:31393133-3161-4533-b434-636133386561
DTSTAMP:20260425T033856Z
DESCRIPTION:
DTSTART:20201110T090000Z
DTEND:20201110T110000Z
SUMMARY:Scad20: Timing Side Channels
END:VEVENT
BEGIN:VEVENT
UID:39313762-3233-4235-b561-333331323463
DTSTAMP:20260425T033856Z
DESCRIPTION:
DTSTART:20201117T090000Z
DTEND:20201117T110000Z
SUMMARY:Scad20: Introduction to Microarchitecture
END:VEVENT
BEGIN:VEVENT
UID:31383636-6437-4136-b132-393339643939
DTSTAMP:20260425T033856Z
DESCRIPTION:
DTSTART:20201124T090000Z
DTEND:20201124T110000Z
SUMMARY:Scad20: Cache Attacks I
END:VEVENT
BEGIN:VEVENT
UID:34653330-6335-4238-b364-363133626439
DTSTAMP:20260425T033856Z
DESCRIPTION:
DTSTART:20201201T090000Z
DTEND:20201201T110000Z
SUMMARY:Scad20: Cache Attacks II
END:VEVENT
BEGIN:VEVENT
UID:39303437-3935-4330-b936-376466636663
DTSTAMP:20260425T033856Z
DESCRIPTION:
DTSTART:20201208T090000Z
DTEND:20201208T110000Z
SUMMARY:Scad20: Page Table Attacks
END:VEVENT
BEGIN:VEVENT
UID:30363730-3061-4261-a333-666530616262
DTSTAMP:20260425T033856Z
DESCRIPTION:
DTSTART:20201215T090000Z
DTEND:20201215T110000Z
SUMMARY:Scad20: Transient Execution Attacks I
END:VEVENT
BEGIN:VEVENT
UID:30366663-6165-4339-b462-373964303466
DTSTAMP:20260425T033856Z
DESCRIPTION:
DTSTART;VALUE=DATE:20201220
DTEND;VALUE=DATE:20201221
SUMMARY:Scad20: Practical 1 Deadline
END:VEVENT
BEGIN:VEVENT
UID:32303364-3834-4535-a433-333465313033
DTSTAMP:20260425T033856Z
DESCRIPTION:
DTSTART:20210105T090000Z
DTEND:20210105T110000Z
SUMMARY:Scad20: Transient Execution Attacks II
END:VEVENT
BEGIN:VEVENT
UID:36383732-3261-4436-b161-386631636261
DTSTAMP:20260425T033856Z
DESCRIPTION:
DTSTART;VALUE=DATE:20210110
DTEND;VALUE=DATE:20210111
SUMMARY:Scad20: Practical 2 Deadline
END:VEVENT
BEGIN:VEVENT
UID:61333234-6131-4339-b263-363632303764
DTSTAMP:20260425T033856Z
DESCRIPTION:
DTSTART:20210112T090000Z
DTEND:20210112T110000Z
SUMMARY:Scad20: Mitigations
END:VEVENT
BEGIN:VEVENT
UID:65613063-3063-4363-a435-353066346261
DTSTAMP:20260425T033856Z
DESCRIPTION:
DTSTART:20210119T090000Z
DTEND:20210119T110000Z
SUMMARY:Scad20: Automation and Frameworks
END:VEVENT
BEGIN:VEVENT
UID:30303733-6461-4038-a337-326466393438
DTSTAMP:20260425T033856Z
DESCRIPTION:
DTSTART:20210126T090000Z
DTEND:20210126T110000Z
SUMMARY:Scad20: Other Side Channels and Fault Attacks
END:VEVENT
BEGIN:VEVENT
UID:65643431-3739-4166-b765-336264623862
DTSTAMP:20260425T033856Z
DESCRIPTION:
DTSTART;VALUE=DATE:20210131
DTEND;VALUE=DATE:20210201
SUMMARY:Scad20: Practical 3 Deadline
END:VEVENT
END:VCALENDAR
