BEGIN:VCALENDAR
VERSION:2.0
PRODID:-//127.0.1.1//NONSGML kigkonsult.se iCalcreator 2.41.92//
CALSCALE:GREGORIAN
METHOD:PUBLISH
UID:37303164-6565-4564-b130-363136313536
X-WR-CALNAME:Side-Channel Attacks and Defenses Calendar
X-WR-CALDESC:Events of the lecture Side-Channel Attacks and Defenses
X-WR-TIMEZONE:Europe/Berlin
BEGIN:VEVENT
UID:34663837-3063-4131-b437-653331356437
DTSTAMP:20260425T190512Z
DESCRIPTION:
DTSTART:20251021T080000Z
DTEND:20251021T100000Z
SUMMARY:Introduction
END:VEVENT
BEGIN:VEVENT
UID:30316666-6363-4430-b166-666434303062
DTSTAMP:20260425T190512Z
DESCRIPTION:
DTSTART:20251028T090000Z
DTEND:20251028T110000Z
SUMMARY:Timing Side Channels
END:VEVENT
BEGIN:VEVENT
UID:64623635-3764-4137-a665-333130343439
DTSTAMP:20260425T190512Z
DESCRIPTION:
DTSTART:20251104T090000Z
DTEND:20251104T110000Z
SUMMARY:Introduction to Microarchitecture
END:VEVENT
BEGIN:VEVENT
UID:62376233-6630-4631-a564-346561313761
DTSTAMP:20260425T190512Z
DESCRIPTION:
DTSTART:20251111T090000Z
DTEND:20251111T110000Z
SUMMARY:Cache Attacks I
END:VEVENT
BEGIN:VEVENT
UID:34616165-3461-4534-b262-373064386338
DTSTAMP:20260425T190512Z
DESCRIPTION:
DTSTART:20251118T090000Z
DTEND:20251118T110000Z
SUMMARY:Cache Attacks II
END:VEVENT
BEGIN:VEVENT
UID:37666561-6138-4230-b936-646536633636
DTSTAMP:20260425T190512Z
DESCRIPTION:
DTSTART:20251125T090000Z
DTEND:20251125T110000Z
SUMMARY:Other Side Channels and Frameworks
END:VEVENT
BEGIN:VEVENT
UID:36303465-3939-4361-a338-373336666639
DTSTAMP:20260425T190512Z
DESCRIPTION:
DTSTART:20251209T090000Z
DTEND:20251209T110000Z
SUMMARY:Mitigations
END:VEVENT
BEGIN:VEVENT
UID:35356366-6135-4437-b034-353835643763
DTSTAMP:20260425T190512Z
DESCRIPTION:
DTSTART:20251216T090000Z
DTEND:20251216T110000Z
SUMMARY:Page Table Attacks
END:VEVENT
BEGIN:VEVENT
UID:62336532-6233-4737-b865-346135376533
DTSTAMP:20260425T190512Z
DESCRIPTION:
DTSTART:20260106T090000Z
DTEND:20260106T110000Z
SUMMARY:Fault Attacks
END:VEVENT
BEGIN:VEVENT
UID:63356536-6266-4237-b061-636437346431
DTSTAMP:20260425T190512Z
DESCRIPTION:
DTSTART:20260113T090000Z
DTEND:20260113T110000Z
SUMMARY:Transient Execution Attacks: Meltdown
END:VEVENT
BEGIN:VEVENT
UID:65343565-6139-4337-b834-343839613530
DTSTAMP:20260425T190512Z
DESCRIPTION:
DTSTART:20260120T090000Z
DTEND:20260120T110000Z
SUMMARY:Transient Execution Attacks: Spectre
END:VEVENT
BEGIN:VEVENT
UID:30363462-6431-4138-b333-346232343661
DTSTAMP:20260425T190512Z
DESCRIPTION:
DTSTART:20260127T090000Z
DTEND:20260127T110000Z
SUMMARY:Architectural CPU Bugs
END:VEVENT
END:VCALENDAR
