BEGIN:VCALENDAR
VERSION:2.0
PRODID:-//127.0.1.1//NONSGML kigkonsult.se iCalcreator 2.41.92//
CALSCALE:GREGORIAN
METHOD:PUBLISH
UID:64646234-6463-4733-b037-366561303130
X-WR-CALNAME:Side-Channel Attacks and Defenses Calendar
X-WR-CALDESC:Events of the lecture Side-Channel Attacks and Defenses
X-WR-TIMEZONE:Europe/Berlin
BEGIN:VEVENT
UID:30326134-6333-4530-b863-626133613465
DTSTAMP:20260425T203358Z
DESCRIPTION:
DTSTART:20251021T080000Z
DTEND:20251021T100000Z
SUMMARY:Scad25: Introduction
END:VEVENT
BEGIN:VEVENT
UID:63336164-3235-4834-b333-366264383938
DTSTAMP:20260425T203358Z
DESCRIPTION:
DTSTART:20251028T090000Z
DTEND:20251028T110000Z
SUMMARY:Scad25: Timing Side Channels
END:VEVENT
BEGIN:VEVENT
UID:63356539-3165-4065-a262-363730383337
DTSTAMP:20260425T203358Z
DESCRIPTION:
DTSTART:20251104T090000Z
DTEND:20251104T110000Z
SUMMARY:Scad25: Introduction to Microarchitecture
END:VEVENT
BEGIN:VEVENT
UID:37616161-3566-4162-b536-623865613562
DTSTAMP:20260425T203358Z
DESCRIPTION:
DTSTART:20251111T090000Z
DTEND:20251111T110000Z
SUMMARY:Scad25: Cache Attacks I
END:VEVENT
BEGIN:VEVENT
UID:39356461-3032-4134-b961-666139306163
DTSTAMP:20260425T203358Z
DESCRIPTION:
DTSTART:20251118T090000Z
DTEND:20251118T110000Z
SUMMARY:Scad25: Cache Attacks II
END:VEVENT
BEGIN:VEVENT
UID:35336466-6363-4636-b763-626139313665
DTSTAMP:20260425T203358Z
DESCRIPTION:
DTSTART:20251125T090000Z
DTEND:20251125T110000Z
SUMMARY:Scad25: Other Side Channels and Frameworks
END:VEVENT
BEGIN:VEVENT
UID:63666366-3430-4238-b034-653964396637
DTSTAMP:20260425T203358Z
DESCRIPTION:
DTSTART:20251209T090000Z
DTEND:20251209T110000Z
SUMMARY:Scad25: Mitigations
END:VEVENT
BEGIN:VEVENT
UID:62663435-6265-4239-a339-663161346364
DTSTAMP:20260425T203358Z
DESCRIPTION:
DTSTART:20251216T090000Z
DTEND:20251216T110000Z
SUMMARY:Scad25: Page Table Attacks
END:VEVENT
BEGIN:VEVENT
UID:36323539-6132-4733-b536-646331306639
DTSTAMP:20260425T203358Z
DESCRIPTION:
DTSTART:20260106T090000Z
DTEND:20260106T110000Z
SUMMARY:Scad25: Fault Attacks
END:VEVENT
BEGIN:VEVENT
UID:30613737-3264-4030-b064-323432313636
DTSTAMP:20260425T203358Z
DESCRIPTION:
DTSTART:20260113T090000Z
DTEND:20260113T110000Z
SUMMARY:Scad25: Transient Execution Attacks: Meltdown
END:VEVENT
BEGIN:VEVENT
UID:36313664-3033-4534-b337-663336353039
DTSTAMP:20260425T203358Z
DESCRIPTION:
DTSTART:20260120T090000Z
DTEND:20260120T110000Z
SUMMARY:Scad25: Transient Execution Attacks: Spectre
END:VEVENT
BEGIN:VEVENT
UID:61383238-6639-4866-b435-376366376536
DTSTAMP:20260425T203358Z
DESCRIPTION:
DTSTART:20260127T090000Z
DTEND:20260127T110000Z
SUMMARY:Scad25: Architectural CPU Bugs
END:VEVENT
END:VCALENDAR
