BEGIN:VCALENDAR
VERSION:2.0
PRODID:-//127.0.1.1//NONSGML kigkonsult.se iCalcreator 2.41.92//
CALSCALE:GREGORIAN
METHOD:PUBLISH
UID:37613065-6537-4066-b638-613161356564
X-WR-CALNAME:Security Calendar
X-WR-CALDESC:Events of the lecture Security
X-WR-TIMEZONE:Europe/Berlin
BEGIN:VEVENT
UID:33393833-6262-4362-b362-393965353533
DTSTAMP:20260420T131225Z
DESCRIPTION:
DTSTART:20171019T063000Z
DTEND:20171019T080000Z
LOCATION:Günther-Hotz-Hörsaal
SUMMARY:Lecture
END:VEVENT
BEGIN:VEVENT
UID:32316662-6361-4465-a639-396466353531
DTSTAMP:20260420T131225Z
DESCRIPTION:
DTSTART:20171024T081500Z
DTEND:20171024T094500Z
LOCATION:Günther-Hotz-Hörsaal
SUMMARY:Lecture
END:VEVENT
BEGIN:VEVENT
UID:32653533-3265-4337-a639-346330373535
DTSTAMP:20260420T131225Z
DESCRIPTION:
DTSTART:20171026T063000Z
DTEND:20171026T080000Z
LOCATION:Günther-Hotz-Hörsaal
SUMMARY:Lecture
END:VEVENT
BEGIN:VEVENT
UID:30633237-6430-4463-b935-323735313739
DTSTAMP:20260420T131225Z
DESCRIPTION:
DTSTART:20171102T073000Z
DTEND:20171102T090000Z
LOCATION:Günther-Hotz-Hörsaal
SUMMARY:Lecture
END:VEVENT
BEGIN:VEVENT
UID:65323836-3737-4731-b135-326165623834
DTSTAMP:20260420T131225Z
DESCRIPTION:
DTSTART:20171107T091500Z
DTEND:20171107T104500Z
LOCATION:Günther-Hotz-Hörsaal
SUMMARY:Lecture
END:VEVENT
BEGIN:VEVENT
UID:37303231-6461-4365-a466-373062363761
DTSTAMP:20260420T131225Z
DESCRIPTION:
DTSTART:20171109T073000Z
DTEND:20171109T090000Z
LOCATION:Günther-Hotz-Hörsaal
SUMMARY:Lecture
END:VEVENT
BEGIN:VEVENT
UID:65636137-6664-4332-b062-316266366463
DTSTAMP:20260420T131225Z
DESCRIPTION:
DTSTART:20171109T170000Z
DTEND:20171130T072900Z
SUMMARY:Project 1
END:VEVENT
BEGIN:VEVENT
UID:37383237-3064-4966-b438-643434303830
DTSTAMP:20260420T131225Z
DESCRIPTION:
DTSTART:20171114T091500Z
DTEND:20171114T104500Z
LOCATION:Günther-Hotz-Hörsaal
SUMMARY:Lecture
END:VEVENT
BEGIN:VEVENT
UID:30643765-6361-4236-a561-656465313234
DTSTAMP:20260420T131225Z
DESCRIPTION:
DTSTART:20171116T073000Z
DTEND:20171116T090000Z
LOCATION:Günther-Hotz-Hörsaal
SUMMARY:Lecture
END:VEVENT
BEGIN:VEVENT
UID:34353137-6331-4139-b936-313837646662
DTSTAMP:20260420T131225Z
DESCRIPTION:
DTSTART:20171121T091500Z
DTEND:20171121T104500Z
LOCATION:Günther-Hotz-Hörsaal
SUMMARY:Lecture
END:VEVENT
BEGIN:VEVENT
UID:66306362-6535-4264-a161-316663383930
DTSTAMP:20260420T131225Z
DESCRIPTION:
DTSTART:20171121T091500Z
DTEND:20171121T093000Z
LOCATION:Günther-Hotz-Hörsaal
SUMMARY:Minitest 1
END:VEVENT
BEGIN:VEVENT
UID:65356138-6663-4264-a361-383136626139
DTSTAMP:20260420T131225Z
DESCRIPTION:
DTSTART:20171123T073000Z
DTEND:20171123T090000Z
LOCATION:Günther-Hotz-Hörsaal
SUMMARY:Lecture
END:VEVENT
BEGIN:VEVENT
UID:36353634-3039-4462-b434-366630363830
DTSTAMP:20260420T131225Z
DESCRIPTION:
DTSTART:20171128T091500Z
DTEND:20171128T104500Z
LOCATION:Günther-Hotz-Hörsaal
SUMMARY:Lecture
END:VEVENT
BEGIN:VEVENT
UID:36333131-3264-4665-b461-346137393562
DTSTAMP:20260420T131225Z
DESCRIPTION:
DTSTART:20171130T073000Z
DTEND:20171130T090000Z
LOCATION:Günther-Hotz-Hörsaal
SUMMARY:Lecture
END:VEVENT
BEGIN:VEVENT
UID:39643265-3134-4438-b137-616466353936
DTSTAMP:20260420T131225Z
DESCRIPTION:
DTSTART:20171130T170000Z
DTEND:20171221T072900Z
SUMMARY:Project 2
END:VEVENT
BEGIN:VEVENT
UID:37316363-6230-4635-b833-313235613465
DTSTAMP:20260420T131225Z
DESCRIPTION:
DTSTART:20171205T091500Z
DTEND:20171205T104500Z
LOCATION:Günther-Hotz-Hörsaal
SUMMARY:Lecture
END:VEVENT
BEGIN:VEVENT
UID:33613162-3930-4532-b532-383266303136
DTSTAMP:20260420T131225Z
DESCRIPTION:
DTSTART:20171205T091500Z
DTEND:20171205T093000Z
LOCATION:Günther-Hotz-Hörsaal
SUMMARY:Minitest 2
END:VEVENT
BEGIN:VEVENT
UID:39646637-3662-4432-a432-363931356366
DTSTAMP:20260420T131225Z
DESCRIPTION:
DTSTART:20171207T073000Z
DTEND:20171207T090000Z
LOCATION:Günther-Hotz-Hörsaal
SUMMARY:Lecture
END:VEVENT
BEGIN:VEVENT
UID:62343832-3032-4832-b039-393066366332
DTSTAMP:20260420T131225Z
DESCRIPTION:
DTSTART:20171212T091500Z
DTEND:20171212T104500Z
LOCATION:Günther-Hotz-Hörsaal
SUMMARY:Lecture
END:VEVENT
BEGIN:VEVENT
UID:35373965-3634-4937-b031-346634393466
DTSTAMP:20260420T131225Z
DESCRIPTION:
DTSTART:20171214T073000Z
DTEND:20171214T090000Z
LOCATION:Günther-Hotz-Hörsaal
SUMMARY:Lecture
END:VEVENT
BEGIN:VEVENT
UID:39643462-3736-4766-b132-343836383565
DTSTAMP:20260420T131225Z
DESCRIPTION:
DTSTART:20171219T091500Z
DTEND:20171219T104500Z
LOCATION:Günther-Hotz-Hörsaal
SUMMARY:Lecture
END:VEVENT
BEGIN:VEVENT
UID:34356330-6639-4465-a264-653034396636
DTSTAMP:20260420T131225Z
DESCRIPTION:
DTSTART:20171219T091500Z
DTEND:20171219T093000Z
LOCATION:Günther-Hotz-Hörsaal
SUMMARY:Minitest 3
END:VEVENT
BEGIN:VEVENT
UID:31333136-3261-4162-b966-366466323338
DTSTAMP:20260420T131225Z
DESCRIPTION:
DTSTART:20171221T170000Z
DTEND:20180118T072900Z
SUMMARY:Project 3
END:VEVENT
BEGIN:VEVENT
UID:35396339-3166-4136-b536-636434653263
DTSTAMP:20260420T131225Z
DESCRIPTION:
DTSTART:20180104T073000Z
DTEND:20180104T090000Z
LOCATION:Günther-Hotz-Hörsaal
SUMMARY:Lecture
END:VEVENT
BEGIN:VEVENT
UID:31393339-6533-4363-b132-643332326136
DTSTAMP:20260420T131225Z
DESCRIPTION:
DTSTART:20180109T091500Z
DTEND:20180109T104500Z
LOCATION:Günther-Hotz-Hörsaal
SUMMARY:Lecture
END:VEVENT
BEGIN:VEVENT
UID:62646565-3637-4832-b335-326161613466
DTSTAMP:20260420T131225Z
DESCRIPTION:
DTSTART:20180109T091500Z
DTEND:20180109T093000Z
LOCATION:Günther-Hotz-Hörsaal
SUMMARY:Minitest 4
END:VEVENT
BEGIN:VEVENT
UID:61643065-3332-4166-b836-306164313339
DTSTAMP:20260420T131225Z
DESCRIPTION:
DTSTART:20180111T073000Z
DTEND:20180111T090000Z
LOCATION:Günther-Hotz-Hörsaal
SUMMARY:Lecture
END:VEVENT
BEGIN:VEVENT
UID:62363035-3865-4332-b238-393661626533
DTSTAMP:20260420T131225Z
DESCRIPTION:
DTSTART:20180116T091500Z
DTEND:20180116T104500Z
LOCATION:Günther-Hotz-Hörsaal
SUMMARY:Lecture
END:VEVENT
BEGIN:VEVENT
UID:65626563-6234-4266-b664-643731616661
DTSTAMP:20260420T131225Z
DESCRIPTION:
DTSTART:20180118T073000Z
DTEND:20180118T090000Z
LOCATION:Günther-Hotz-Hörsaal
SUMMARY:Lecture
END:VEVENT
BEGIN:VEVENT
UID:65363364-3839-4266-b665-336665386132
DTSTAMP:20260420T131225Z
DESCRIPTION:
DTSTART:20180123T091500Z
DTEND:20180123T093000Z
LOCATION:Günther-Hotz-Hörsaal
SUMMARY:Minitest 5
END:VEVENT
BEGIN:VEVENT
UID:65326666-3238-4033-a639-346661373136
DTSTAMP:20260420T131225Z
DESCRIPTION:
DTSTART:20180123T091500Z
DTEND:20180123T104500Z
LOCATION:Günther-Hotz-Hörsaal
SUMMARY:Lecture
END:VEVENT
BEGIN:VEVENT
UID:33333263-3937-4932-a130-303331323533
DTSTAMP:20260420T131225Z
DESCRIPTION:
DTSTART:20180125T073000Z
DTEND:20180125T090000Z
LOCATION:Günther-Hotz-Hörsaal
SUMMARY:Lecture
END:VEVENT
BEGIN:VEVENT
UID:65376663-3637-4233-b566-383965343537
DTSTAMP:20260420T131225Z
DESCRIPTION:
DTSTART:20180130T091500Z
DTEND:20180130T104500Z
LOCATION:Günther-Hotz-Hörsaal
SUMMARY:Lecture
END:VEVENT
BEGIN:VEVENT
UID:63643736-3635-4739-b963-343233666261
DTSTAMP:20260420T131225Z
DESCRIPTION:
DTSTART:20180201T073000Z
DTEND:20180201T090000Z
LOCATION:Günther-Hotz-Hörsaal
SUMMARY:Lecture
END:VEVENT
BEGIN:VEVENT
UID:36386464-3836-4066-a639-313838356333
DTSTAMP:20260420T131225Z
DESCRIPTION:
DTSTART:20180214T090000Z
DTEND:20180214T110000Z
SUMMARY:Exam
END:VEVENT
BEGIN:VEVENT
UID:38656638-6632-4434-b539-366261366333
DTSTAMP:20260420T131225Z
DESCRIPTION:
DTSTART:20180316T090000Z
DTEND:20180316T110000Z
SUMMARY:Re-Exam
END:VEVENT
END:VCALENDAR
