BEGIN:VCALENDAR
VERSION:2.0
PRODID:-//127.0.1.1//NONSGML kigkonsult.se iCalcreator 2.41.92//
CALSCALE:GREGORIAN
METHOD:PUBLISH
UID:61333865-3037-4434-b863-303533303136
X-WR-CALNAME:Security Calendar
X-WR-CALDESC:Events of the lecture Security
X-WR-TIMEZONE:Europe/Berlin
BEGIN:VEVENT
UID:33343666-3066-4263-b139-326135393638
DTSTAMP:20260420T131950Z
DESCRIPTION:
DTSTART:20171019T063000Z
DTEND:20171019T080000Z
LOCATION:Günther-Hotz-Hörsaal
SUMMARY:Sec18: Lecture
END:VEVENT
BEGIN:VEVENT
UID:33663331-6133-4766-b362-623366636564
DTSTAMP:20260420T131950Z
DESCRIPTION:
DTSTART:20171024T081500Z
DTEND:20171024T094500Z
LOCATION:Günther-Hotz-Hörsaal
SUMMARY:Sec18: Lecture
END:VEVENT
BEGIN:VEVENT
UID:63383265-6137-4663-a665-616538363233
DTSTAMP:20260420T131950Z
DESCRIPTION:
DTSTART:20171026T063000Z
DTEND:20171026T080000Z
LOCATION:Günther-Hotz-Hörsaal
SUMMARY:Sec18: Lecture
END:VEVENT
BEGIN:VEVENT
UID:30323134-3133-4661-b533-653931376330
DTSTAMP:20260420T131950Z
DESCRIPTION:
DTSTART:20171102T073000Z
DTEND:20171102T090000Z
LOCATION:Günther-Hotz-Hörsaal
SUMMARY:Sec18: Lecture
END:VEVENT
BEGIN:VEVENT
UID:65313962-3933-4463-a234-376433353435
DTSTAMP:20260420T131950Z
DESCRIPTION:
DTSTART:20171107T091500Z
DTEND:20171107T104500Z
LOCATION:Günther-Hotz-Hörsaal
SUMMARY:Sec18: Lecture
END:VEVENT
BEGIN:VEVENT
UID:30656235-6362-4531-a163-333138393832
DTSTAMP:20260420T131950Z
DESCRIPTION:
DTSTART:20171109T073000Z
DTEND:20171109T090000Z
LOCATION:Günther-Hotz-Hörsaal
SUMMARY:Sec18: Lecture
END:VEVENT
BEGIN:VEVENT
UID:35353362-3031-4536-b730-353564326131
DTSTAMP:20260420T131950Z
DESCRIPTION:
DTSTART:20171114T091500Z
DTEND:20171114T104500Z
LOCATION:Günther-Hotz-Hörsaal
SUMMARY:Sec18: Lecture
END:VEVENT
BEGIN:VEVENT
UID:32306432-6662-4832-b663-363732653433
DTSTAMP:20260420T131950Z
DESCRIPTION:
DTSTART:20171116T073000Z
DTEND:20171116T090000Z
LOCATION:Günther-Hotz-Hörsaal
SUMMARY:Sec18: Lecture
END:VEVENT
BEGIN:VEVENT
UID:33626632-6630-4239-b239-316331626238
DTSTAMP:20260420T131950Z
DESCRIPTION:
DTSTART:20171121T091500Z
DTEND:20171121T104500Z
LOCATION:Günther-Hotz-Hörsaal
SUMMARY:Sec18: Lecture
END:VEVENT
BEGIN:VEVENT
UID:34303863-3164-4664-b035-366564366538
DTSTAMP:20260420T131950Z
DESCRIPTION:
DTSTART:20171123T073000Z
DTEND:20171123T090000Z
LOCATION:Günther-Hotz-Hörsaal
SUMMARY:Sec18: Lecture
END:VEVENT
BEGIN:VEVENT
UID:37633831-3837-4232-a665-353932373239
DTSTAMP:20260420T131950Z
DESCRIPTION:
DTSTART:20171128T091500Z
DTEND:20171128T104500Z
LOCATION:Günther-Hotz-Hörsaal
SUMMARY:Sec18: Lecture
END:VEVENT
BEGIN:VEVENT
UID:61376263-3565-4463-a439-303161636165
DTSTAMP:20260420T131950Z
DESCRIPTION:
DTSTART:20171130T073000Z
DTEND:20171130T090000Z
LOCATION:Günther-Hotz-Hörsaal
SUMMARY:Sec18: Lecture
END:VEVENT
BEGIN:VEVENT
UID:36626366-6364-4231-b561-623865613366
DTSTAMP:20260420T131950Z
DESCRIPTION:
DTSTART:20171205T091500Z
DTEND:20171205T104500Z
LOCATION:Günther-Hotz-Hörsaal
SUMMARY:Sec18: Lecture
END:VEVENT
BEGIN:VEVENT
UID:61643464-3238-4464-b762-653435303932
DTSTAMP:20260420T131950Z
DESCRIPTION:
DTSTART:20171207T073000Z
DTEND:20171207T090000Z
LOCATION:Günther-Hotz-Hörsaal
SUMMARY:Sec18: Lecture
END:VEVENT
BEGIN:VEVENT
UID:65353435-3938-4232-b935-383637633936
DTSTAMP:20260420T131950Z
DESCRIPTION:
DTSTART:20171212T091500Z
DTEND:20171212T104500Z
LOCATION:Günther-Hotz-Hörsaal
SUMMARY:Sec18: Lecture
END:VEVENT
BEGIN:VEVENT
UID:63663131-6537-4230-a437-366631303230
DTSTAMP:20260420T131950Z
DESCRIPTION:
DTSTART:20171214T073000Z
DTEND:20171214T090000Z
LOCATION:Günther-Hotz-Hörsaal
SUMMARY:Sec18: Lecture
END:VEVENT
BEGIN:VEVENT
UID:62373432-6332-4865-b435-656336326565
DTSTAMP:20260420T131950Z
DESCRIPTION:
DTSTART:20171219T091500Z
DTEND:20171219T104500Z
LOCATION:Günther-Hotz-Hörsaal
SUMMARY:Sec18: Lecture
END:VEVENT
BEGIN:VEVENT
UID:33643738-3735-4764-a565-663739313864
DTSTAMP:20260420T131950Z
DESCRIPTION:
DTSTART:20180104T073000Z
DTEND:20180104T090000Z
LOCATION:Günther-Hotz-Hörsaal
SUMMARY:Sec18: Lecture
END:VEVENT
BEGIN:VEVENT
UID:38616136-3033-4530-b265-396539633735
DTSTAMP:20260420T131950Z
DESCRIPTION:
DTSTART:20180109T091500Z
DTEND:20180109T104500Z
LOCATION:Günther-Hotz-Hörsaal
SUMMARY:Sec18: Lecture
END:VEVENT
BEGIN:VEVENT
UID:62616436-3864-4231-a132-393931616561
DTSTAMP:20260420T131950Z
DESCRIPTION:
DTSTART:20180111T073000Z
DTEND:20180111T090000Z
LOCATION:Günther-Hotz-Hörsaal
SUMMARY:Sec18: Lecture
END:VEVENT
BEGIN:VEVENT
UID:37653062-3932-4133-b936-643363386239
DTSTAMP:20260420T131950Z
DESCRIPTION:
DTSTART:20180116T091500Z
DTEND:20180116T104500Z
LOCATION:Günther-Hotz-Hörsaal
SUMMARY:Sec18: Lecture
END:VEVENT
BEGIN:VEVENT
UID:36336335-6139-4635-a432-623666623837
DTSTAMP:20260420T131950Z
DESCRIPTION:
DTSTART:20180118T073000Z
DTEND:20180118T090000Z
LOCATION:Günther-Hotz-Hörsaal
SUMMARY:Sec18: Lecture
END:VEVENT
BEGIN:VEVENT
UID:38396133-6237-4536-a431-633736626532
DTSTAMP:20260420T131950Z
DESCRIPTION:
DTSTART:20180123T091500Z
DTEND:20180123T104500Z
LOCATION:Günther-Hotz-Hörsaal
SUMMARY:Sec18: Lecture
END:VEVENT
BEGIN:VEVENT
UID:34653432-3535-4366-b365-646561633537
DTSTAMP:20260420T131950Z
DESCRIPTION:
DTSTART:20180125T073000Z
DTEND:20180125T090000Z
LOCATION:Günther-Hotz-Hörsaal
SUMMARY:Sec18: Lecture
END:VEVENT
BEGIN:VEVENT
UID:37366533-3330-4231-a263-313939633565
DTSTAMP:20260420T131950Z
DESCRIPTION:
DTSTART:20180130T091500Z
DTEND:20180130T104500Z
LOCATION:Günther-Hotz-Hörsaal
SUMMARY:Sec18: Lecture
END:VEVENT
BEGIN:VEVENT
UID:38313362-3835-4133-b038-336230383737
DTSTAMP:20260420T131950Z
DESCRIPTION:
DTSTART:20180201T073000Z
DTEND:20180201T090000Z
LOCATION:Günther-Hotz-Hörsaal
SUMMARY:Sec18: Lecture
END:VEVENT
END:VCALENDAR
