BEGIN:VCALENDAR
VERSION:2.0
PRODID:-//127.0.1.1//NONSGML kigkonsult.se iCalcreator 2.41.92//
CALSCALE:GREGORIAN
METHOD:PUBLISH
UID:62653462-3631-4334-b431-393733613930
X-WR-CALNAME:Security Calendar
X-WR-CALDESC:Events of the lecture Security
X-WR-TIMEZONE:Europe/Berlin
BEGIN:VEVENT
UID:65366636-6665-4763-b038-623434646366
DTSTAMP:20260420T131011Z
DESCRIPTION:
DTSTART:20180214T090000Z
DTEND:20180214T110000Z
SUMMARY:Sec18: Exam
END:VEVENT
BEGIN:VEVENT
UID:64373635-3561-4432-b230-383539653132
DTSTAMP:20260420T131011Z
DESCRIPTION:
DTSTART:20180316T090000Z
DTEND:20180316T110000Z
SUMMARY:Sec18: Re-Exam
END:VEVENT
END:VCALENDAR
