BEGIN:VCALENDAR
VERSION:2.0
PRODID:-//127.0.1.1//NONSGML kigkonsult.se iCalcreator 2.41.92//
CALSCALE:GREGORIAN
METHOD:PUBLISH
UID:63633563-3666-4632-b131-666234366434
X-WR-CALNAME:Security Calendar
X-WR-CALDESC:Events of the lecture Security
X-WR-TIMEZONE:Europe/Berlin
BEGIN:VEVENT
UID:34346465-3530-4462-a562-636363353865
DTSTAMP:20260420T144307Z
DESCRIPTION:
DTSTART:20171109T170000Z
DTEND:20171130T072900Z
SUMMARY:Project 1
END:VEVENT
BEGIN:VEVENT
UID:39646438-6438-4461-b465-363961616365
DTSTAMP:20260420T144307Z
DESCRIPTION:
DTSTART:20171130T170000Z
DTEND:20171221T072900Z
SUMMARY:Project 2
END:VEVENT
BEGIN:VEVENT
UID:30636564-6463-4432-b565-663865333964
DTSTAMP:20260420T144307Z
DESCRIPTION:
DTSTART:20171221T170000Z
DTEND:20180118T072900Z
SUMMARY:Project 3
END:VEVENT
END:VCALENDAR
