BEGIN:VCALENDAR
VERSION:2.0
PRODID:-//127.0.1.1//NONSGML kigkonsult.se iCalcreator 2.41.92//
CALSCALE:GREGORIAN
METHOD:PUBLISH
UID:34626639-6238-4332-a131-653939363762
X-WR-CALNAME:Security Calendar
X-WR-CALDESC:Events of the lecture Security
X-WR-TIMEZONE:Europe/Berlin
BEGIN:VEVENT
UID:39653438-3433-4132-b033-343332303262
DTSTAMP:20260420T144056Z
DESCRIPTION:
DTSTART:20171109T170000Z
DTEND:20171130T072900Z
SUMMARY:Sec18: Project 1
END:VEVENT
BEGIN:VEVENT
UID:33356464-3436-4539-b238-643934636236
DTSTAMP:20260420T144056Z
DESCRIPTION:
DTSTART:20171130T170000Z
DTEND:20171221T072900Z
SUMMARY:Sec18: Project 2
END:VEVENT
BEGIN:VEVENT
UID:34613030-3632-4063-b335-613537653861
DTSTAMP:20260420T144056Z
DESCRIPTION:
DTSTART:20171221T170000Z
DTEND:20180118T072900Z
SUMMARY:Sec18: Project 3
END:VEVENT
END:VCALENDAR
