BEGIN:VCALENDAR
VERSION:2.0
PRODID:-//127.0.1.1//NONSGML kigkonsult.se iCalcreator 2.41.92//
CALSCALE:GREGORIAN
METHOD:PUBLISH
UID:62356261-6632-4634-b135-396133316631
X-WR-CALNAME:Security Calendar
X-WR-CALDESC:Events of the lecture Security
X-WR-TIMEZONE:Europe/Berlin
BEGIN:VEVENT
UID:32383765-3739-4533-a338-663330663933
DTSTAMP:20260420T131347Z
DESCRIPTION:
DTSTART:20171121T091500Z
DTEND:20171121T093000Z
LOCATION:Günther-Hotz-Hörsaal
SUMMARY:Sec18: Minitest 1
END:VEVENT
BEGIN:VEVENT
UID:62373637-6438-4662-b933-366436616638
DTSTAMP:20260420T131347Z
DESCRIPTION:
DTSTART:20171205T091500Z
DTEND:20171205T093000Z
LOCATION:Günther-Hotz-Hörsaal
SUMMARY:Sec18: Minitest 2
END:VEVENT
BEGIN:VEVENT
UID:38303463-6434-4134-b735-623539646263
DTSTAMP:20260420T131347Z
DESCRIPTION:
DTSTART:20171219T091500Z
DTEND:20171219T093000Z
LOCATION:Günther-Hotz-Hörsaal
SUMMARY:Sec18: Minitest 3
END:VEVENT
BEGIN:VEVENT
UID:35306565-3263-4238-b865-666539326338
DTSTAMP:20260420T131347Z
DESCRIPTION:
DTSTART:20180109T091500Z
DTEND:20180109T093000Z
LOCATION:Günther-Hotz-Hörsaal
SUMMARY:Sec18: Minitest 4
END:VEVENT
BEGIN:VEVENT
UID:38376431-3237-4761-a235-363738643633
DTSTAMP:20260420T131347Z
DESCRIPTION:
DTSTART:20180123T091500Z
DTEND:20180123T093000Z
LOCATION:Günther-Hotz-Hörsaal
SUMMARY:Sec18: Minitest 5
END:VEVENT
END:VCALENDAR
