BEGIN:VCALENDAR
VERSION:2.0
PRODID:-//127.0.1.1//NONSGML kigkonsult.se iCalcreator 2.41.92//
CALSCALE:GREGORIAN
METHOD:PUBLISH
UID:39633165-6438-4436-b762-613238373838
X-WR-CALNAME:Security Calendar
X-WR-CALDESC:Events of the lecture Security
X-WR-TIMEZONE:Europe/Berlin
BEGIN:VEVENT
UID:61393431-3662-4264-a239-363733303832
DTSTAMP:20260421T070344Z
DESCRIPTION:
DTSTART:20211115T155900Z
DTEND:20211115T155900Z
SUMMARY:Exercise Sheet 1
END:VEVENT
BEGIN:VEVENT
UID:36613665-3161-4936-a532-323038616666
DTSTAMP:20260421T070344Z
DESCRIPTION:
DTSTART:20211129T155900Z
DTEND:20211129T155900Z
SUMMARY:Exercise Sheet 2
END:VEVENT
BEGIN:VEVENT
UID:38353262-3033-4162-b764-313338616165
DTSTAMP:20260421T070344Z
DESCRIPTION:
DTSTART:20211213T155900Z
DTEND:20211213T155900Z
SUMMARY:Exercise Sheet 3
END:VEVENT
BEGIN:VEVENT
UID:39353062-3134-4434-b835-396532333939
DTSTAMP:20260421T070344Z
DESCRIPTION:
DTSTART:20220112T155900Z
DTEND:20220112T155900Z
SUMMARY:Exercise Sheet 4
END:VEVENT
BEGIN:VEVENT
UID:33623265-3533-4761-a530-386633666661
DTSTAMP:20260421T070344Z
DESCRIPTION:
DTSTART:20220119T155900Z
DTEND:20220119T155900Z
SUMMARY:Exercise Sheet 5 Feedback Deadline
END:VEVENT
BEGIN:VEVENT
UID:30383637-6235-4837-a366-343135646231
DTSTAMP:20260421T070344Z
DESCRIPTION:
DTSTART:20220201T155900Z
DTEND:20220201T155900Z
SUMMARY:Exercise Sheet 5
END:VEVENT
END:VCALENDAR
