BEGIN:VCALENDAR
VERSION:2.0
PRODID:-//127.0.1.1//NONSGML kigkonsult.se iCalcreator 2.41.92//
CALSCALE:GREGORIAN
METHOD:PUBLISH
UID:38633735-3666-4564-a236-356433313865
X-WR-CALNAME:Security Calendar
X-WR-CALDESC:Events of the lecture Security
X-WR-TIMEZONE:Europe/Berlin
BEGIN:VEVENT
UID:34333833-3664-4265-a135-656338613164
DTSTAMP:20260421T052743Z
DESCRIPTION:
DTSTART;VALUE=DATE:20220202
DTEND;VALUE=DATE:20220205
SUMMARY:Mini CTF set-up
END:VEVENT
BEGIN:VEVENT
UID:36386235-6162-4661-a234-306564626635
DTSTAMP:20260421T052743Z
DESCRIPTION:
DTSTART;VALUE=DATE:20220207
DTEND;VALUE=DATE:20220211
SUMMARY:Mini CTF
END:VEVENT
END:VCALENDAR
