BEGIN:VCALENDAR
VERSION:2.0
PRODID:-//127.0.1.1//NONSGML kigkonsult.se iCalcreator 2.41.92//
CALSCALE:GREGORIAN
METHOD:PUBLISH
UID:64646336-3836-4665-b337-653463333835
X-WR-CALNAME:Software Reliability Calendar
X-WR-CALDESC:Events of the lecture Software Reliability
X-WR-TIMEZONE:Europe/Berlin
BEGIN:VEVENT
UID:63613838-3131-4162-b332-663535633334
DTSTAMP:20260419T171829Z
DESCRIPTION:
DTSTART:20210421T121500Z
DTEND:20210421T134500Z
SUMMARY:How To
END:VEVENT
END:VCALENDAR
