BEGIN:VCALENDAR
VERSION:2.0
PRODID:-//127.0.1.1//NONSGML kigkonsult.se iCalcreator 2.41.92//
CALSCALE:GREGORIAN
METHOD:PUBLISH
UID:61623561-3261-4333-b632-393830633633
X-WR-CALNAME:Softwarepraktikum Calendar
X-WR-CALDESC:Termine der Vorlesung Softwarepraktikum
X-WR-TIMEZONE:Europe/Berlin
BEGIN:VEVENT
UID:65633434-6531-4333-b236-333865653538
DTSTAMP:20260421T101909Z
DESCRIPTION:Beginn der Einzelphase
DTSTART;VALUE=DATE:20180820
DTEND;VALUE=DATE:20180821
SUMMARY:Beginn der Einzelphase
END:VEVENT
BEGIN:VEVENT
UID:64356339-6561-4164-a231-313836306631
DTSTAMP:20260421T101909Z
DESCRIPTION:
DTSTART:20180824T215900Z
DTEND:20180824T215900Z
SUMMARY:Abgabe Systemtests
END:VEVENT
BEGIN:VEVENT
UID:66663638-3232-4263-a461-333863633534
DTSTAMP:20260421T101909Z
DESCRIPTION:
DTSTART;VALUE=DATE:20180827
DTEND;VALUE=DATE:20180828
SUMMARY:Beginn der Gruppenphase
END:VEVENT
BEGIN:VEVENT
UID:33366639-6636-4765-b639-623536306661
DTSTAMP:20260421T101909Z
DESCRIPTION:
DTSTART:20180829T080000Z
DTEND:20180830T160000Z
SUMMARY:Entwurfreviews
END:VEVENT
BEGIN:VEVENT
UID:32303334-6338-4265-a338-666331663636
DTSTAMP:20260421T101909Z
DESCRIPTION:
DTSTART:20180904T080000Z
DTEND:20180905T160000Z
SUMMARY:Entwurfabnahme
END:VEVENT
BEGIN:VEVENT
UID:66333932-6266-4231-a230-626430666233
DTSTAMP:20260421T101909Z
DESCRIPTION:
DTSTART:20180917T080000Z
DTEND:20180918T160000Z
SUMMARY:Codereview
END:VEVENT
BEGIN:VEVENT
UID:61633935-3538-4361-b534-323335366564
DTSTAMP:20260421T101909Z
DESCRIPTION:
DTSTART:20180924T080000Z
DTEND:20180924T160000Z
SUMMARY:Codeabnahme
END:VEVENT
BEGIN:VEVENT
UID:33313364-6561-4330-b431-383531633539
DTSTAMP:20260421T101909Z
DESCRIPTION:
DTSTART:20180926T215900Z
DTEND:20180926T215900Z
SUMMARY:KI Qualifikation
END:VEVENT
BEGIN:VEVENT
UID:32663733-6564-4562-a563-613639366562
DTSTAMP:20260421T101909Z
DESCRIPTION:Weitere Infos finden Sie hier: https://cms.cispa.saarland/sopra
 18/4/Messe
DTSTART:20180928T080000Z
DTEND:20180928T140000Z
SUMMARY:Messe und Turnier
END:VEVENT
END:VCALENDAR
