BEGIN:VCALENDAR
VERSION:2.0
PRODID:-//127.0.1.1//NONSGML kigkonsult.se iCalcreator 2.41.92//
CALSCALE:GREGORIAN
METHOD:PUBLISH
UID:32396238-6338-4531-b862-653863653131
X-WR-CALNAME:Softwarepraktikum Calendar
X-WR-CALDESC:Termine der Vorlesung Softwarepraktikum
X-WR-TIMEZONE:Europe/Berlin
BEGIN:VEVENT
UID:38643437-6638-4437-a439-353238393135
DTSTAMP:20260421T101902Z
DESCRIPTION:Weitere Räume werden vor Ort bekannt gegeben
DTSTART:20180820T080000Z
DTEND:20180820T100000Z
LOCATION:E1.3 Raum 105
SUMMARY:Office Hour
END:VEVENT
BEGIN:VEVENT
UID:37656238-3931-4265-b538-373834383537
DTSTAMP:20260421T101902Z
DESCRIPTION:Weitere Räume werden vor Ort bekannt gegeben.
DTSTART:20180820T120000Z
DTEND:20180820T140000Z
SUMMARY:Office Hour
END:VEVENT
BEGIN:VEVENT
UID:65383938-6263-4832-b035-383266383964
DTSTAMP:20260421T101902Z
DESCRIPTION:Weitere Räume werden vor Ort bekannt gegeben
DTSTART:20180821T080000Z
DTEND:20180821T100000Z
LOCATION:E1.3 Raum 105
SUMMARY:Office Hour
END:VEVENT
BEGIN:VEVENT
UID:31653162-6131-4836-b238-636331616133
DTSTAMP:20260421T101902Z
DESCRIPTION:Weitere Räume werden vor Ort bekannt gegeben.
DTSTART:20180821T120000Z
DTEND:20180821T140000Z
SUMMARY:Office Hour
END:VEVENT
BEGIN:VEVENT
UID:36336335-3266-4663-a431-353432663562
DTSTAMP:20260421T101902Z
DESCRIPTION:Weitere Räume werden vor Ort bekannt gegeben
DTSTART:20180822T080000Z
DTEND:20180822T100000Z
LOCATION:E1.3 Raum 105
SUMMARY:Office Hour
END:VEVENT
BEGIN:VEVENT
UID:38613261-3562-4665-b866-383266336132
DTSTAMP:20260421T101902Z
DESCRIPTION:Weitere Räume werden vor Ort bekannt gegeben.
DTSTART:20180822T120000Z
DTEND:20180822T140000Z
SUMMARY:Office Hour
END:VEVENT
BEGIN:VEVENT
UID:34616362-6335-4231-a537-356665656465
DTSTAMP:20260421T101902Z
DESCRIPTION:Weitere Räume werden vor Ort bekannt gegeben
DTSTART:20180823T080000Z
DTEND:20180823T100000Z
LOCATION:E1.3 Raum 105
SUMMARY:Office Hour
END:VEVENT
BEGIN:VEVENT
UID:39346638-6334-4535-b566-396437343232
DTSTAMP:20260421T101902Z
DESCRIPTION:Weitere Räume werden vor Ort bekannt gegeben.
DTSTART:20180823T120000Z
DTEND:20180823T140000Z
SUMMARY:Office Hour
END:VEVENT
BEGIN:VEVENT
UID:66623936-3830-4639-b863-663235333637
DTSTAMP:20260421T101902Z
DESCRIPTION:Weitere Räume werden vor Ort bekannt gegeben
DTSTART:20180824T080000Z
DTEND:20180824T100000Z
LOCATION:E1.3 Raum 105
SUMMARY:Office Hour
END:VEVENT
BEGIN:VEVENT
UID:34656635-3735-4737-a264-323736656163
DTSTAMP:20260421T101902Z
DESCRIPTION:Weitere Räume werden vor Ort bekannt gegeben.
DTSTART:20180824T120000Z
DTEND:20180824T140000Z
SUMMARY:Office Hour
END:VEVENT
END:VCALENDAR
