BEGIN:VCALENDAR
VERSION:2.0
PRODID:-//127.0.1.1//NONSGML kigkonsult.se iCalcreator 2.41.92//
CALSCALE:GREGORIAN
METHOD:PUBLISH
UID:35656262-3365-4136-b365-323733633231
X-WR-CALNAME:Softwarepraktikum Calendar
X-WR-CALDESC:Termine der Vorlesung Softwarepraktikum
X-WR-TIMEZONE:Europe/Berlin
BEGIN:VEVENT
UID:37303330-6231-4863-b138-356333323032
DTSTAMP:20260421T101902Z
DESCRIPTION:Beginn der Einzelphase
DTSTART;VALUE=DATE:20180820
DTEND;VALUE=DATE:20180821
SUMMARY:Sopra18: Beginn der Einzelphase
END:VEVENT
BEGIN:VEVENT
UID:35393862-3866-4535-a535-616435303633
DTSTAMP:20260421T101902Z
DESCRIPTION:Weitere Räume werden vor Ort bekannt gegeben
DTSTART:20180820T080000Z
DTEND:20180820T100000Z
LOCATION:E1.3 Raum 105
SUMMARY:Sopra18: Office Hour
END:VEVENT
BEGIN:VEVENT
UID:37303535-3538-4935-b963-316163616634
DTSTAMP:20260421T101902Z
DESCRIPTION:Weitere Räume werden vor Ort bekannt gegeben.
DTSTART:20180820T120000Z
DTEND:20180820T140000Z
SUMMARY:Sopra18: Office Hour
END:VEVENT
BEGIN:VEVENT
UID:64613636-6439-4836-b333-323038313864
DTSTAMP:20260421T101902Z
DESCRIPTION:
DTSTART:20180820T121500Z
DTEND:20180820T134500Z
LOCATION:E1 3\, Hörsaal 002
SUMMARY:Sopra18: Einführung ins Sopra
END:VEVENT
BEGIN:VEVENT
UID:64363165-6661-4730-a266-363365303433
DTSTAMP:20260421T101902Z
DESCRIPTION:
DTSTART:20180821T063000Z
DTEND:20180821T080000Z
LOCATION:E1 3\, Hörsaal 002
SUMMARY:Sopra18: Software-Tests
END:VEVENT
BEGIN:VEVENT
UID:38333434-3362-4130-b364-303930613233
DTSTAMP:20260421T101902Z
DESCRIPTION:Weitere Räume werden vor Ort bekannt gegeben
DTSTART:20180821T080000Z
DTEND:20180821T100000Z
LOCATION:E1.3 Raum 105
SUMMARY:Sopra18: Office Hour
END:VEVENT
BEGIN:VEVENT
UID:31353031-6436-4437-b061-613335633834
DTSTAMP:20260421T101902Z
DESCRIPTION:Weitere Räume werden vor Ort bekannt gegeben.
DTSTART:20180821T120000Z
DTEND:20180821T140000Z
SUMMARY:Sopra18: Office Hour
END:VEVENT
BEGIN:VEVENT
UID:64376435-3233-4930-a666-653037333639
DTSTAMP:20260421T101902Z
DESCRIPTION:
DTSTART:20180822T063000Z
DTEND:20180822T080000Z
LOCATION:E1 3\, Hörsaal 002
SUMMARY:Sopra18: Abdeckung und Mutationen
END:VEVENT
BEGIN:VEVENT
UID:33343637-6431-4031-a631-333537356361
DTSTAMP:20260421T101902Z
DESCRIPTION:Weitere Räume werden vor Ort bekannt gegeben
DTSTART:20180822T080000Z
DTEND:20180822T100000Z
LOCATION:E1.3 Raum 105
SUMMARY:Sopra18: Office Hour
END:VEVENT
BEGIN:VEVENT
UID:34623737-3136-4064-a130-393534343634
DTSTAMP:20260421T101902Z
DESCRIPTION:Weitere Räume werden vor Ort bekannt gegeben.
DTSTART:20180822T120000Z
DTEND:20180822T140000Z
SUMMARY:Sopra18: Office Hour
END:VEVENT
BEGIN:VEVENT
UID:65316534-6261-4165-b663-626161613563
DTSTAMP:20260421T101902Z
DESCRIPTION:
DTSTART:20180823T063000Z
DTEND:20180823T080000Z
LOCATION:E1 3\, Hörsaal 002
SUMMARY:Sopra18: Einführung UML
END:VEVENT
BEGIN:VEVENT
UID:36313836-3364-4565-a539-366561366532
DTSTAMP:20260421T101902Z
DESCRIPTION:Weitere Räume werden vor Ort bekannt gegeben
DTSTART:20180823T080000Z
DTEND:20180823T100000Z
LOCATION:E1.3 Raum 105
SUMMARY:Sopra18: Office Hour
END:VEVENT
BEGIN:VEVENT
UID:62346339-6436-4962-a262-613439353461
DTSTAMP:20260421T101902Z
DESCRIPTION:Weitere Räume werden vor Ort bekannt gegeben.
DTSTART:20180823T120000Z
DTEND:20180823T140000Z
SUMMARY:Sopra18: Office Hour
END:VEVENT
BEGIN:VEVENT
UID:62623864-3563-4463-a630-666263633364
DTSTAMP:20260421T101902Z
DESCRIPTION:
DTSTART:20180824T063000Z
DTEND:20180824T080000Z
LOCATION:E1 3\, Hörsaal 002
SUMMARY:Sopra18: Entwurfsprinzipien
END:VEVENT
BEGIN:VEVENT
UID:38646532-3630-4939-b938-616236333063
DTSTAMP:20260421T101902Z
DESCRIPTION:Weitere Räume werden vor Ort bekannt gegeben
DTSTART:20180824T080000Z
DTEND:20180824T100000Z
LOCATION:E1.3 Raum 105
SUMMARY:Sopra18: Office Hour
END:VEVENT
BEGIN:VEVENT
UID:66353131-6136-4265-a563-656661646136
DTSTAMP:20260421T101902Z
DESCRIPTION:Weitere Räume werden vor Ort bekannt gegeben.
DTSTART:20180824T120000Z
DTEND:20180824T140000Z
SUMMARY:Sopra18: Office Hour
END:VEVENT
BEGIN:VEVENT
UID:36366266-3230-4636-b165-393438363536
DTSTAMP:20260421T101902Z
DESCRIPTION:
DTSTART:20180824T215900Z
DTEND:20180824T215900Z
SUMMARY:Sopra18: Abgabe Systemtests
END:VEVENT
BEGIN:VEVENT
UID:32383137-3465-4065-a432-633837353434
DTSTAMP:20260421T101902Z
DESCRIPTION:
DTSTART;VALUE=DATE:20180827
DTEND;VALUE=DATE:20180828
SUMMARY:Sopra18: Beginn der Gruppenphase
END:VEVENT
BEGIN:VEVENT
UID:31373562-3536-4131-b533-663961346665
DTSTAMP:20260421T101902Z
DESCRIPTION:
DTSTART:20180827T080000Z
DTEND:20180827T083000Z
LOCATION:E1 3\, Hörsaal 002
SUMMARY:Sopra18: Vorstellung Gruppen
END:VEVENT
BEGIN:VEVENT
UID:35666161-3632-4762-a136-626362306535
DTSTAMP:20260421T101902Z
DESCRIPTION:
DTSTART:20180828T063000Z
DTEND:20180828T080000Z
LOCATION:E1 3\, Hörsaal 002
SUMMARY:Sopra18: Entwurfsmuster
END:VEVENT
BEGIN:VEVENT
UID:33646635-6466-4462-b837-656466333731
DTSTAMP:20260421T101902Z
DESCRIPTION:
DTSTART:20180829T071500Z
DTEND:20180829T080000Z
LOCATION:E1 3\, Hörsaal 002
SUMMARY:Sopra18: Teamarbeit + Versionskontrolle
END:VEVENT
BEGIN:VEVENT
UID:37623432-3465-4763-b932-383865373532
DTSTAMP:20260421T101902Z
DESCRIPTION:
DTSTART:20180829T080000Z
DTEND:20180830T160000Z
SUMMARY:Sopra18: Entwurfreviews
END:VEVENT
BEGIN:VEVENT
UID:36336631-6331-4837-b532-366636346537
DTSTAMP:20260421T101902Z
DESCRIPTION:
DTSTART:20180904T080000Z
DTEND:20180905T160000Z
SUMMARY:Sopra18: Entwurfabnahme
END:VEVENT
BEGIN:VEVENT
UID:38373263-3731-4030-b663-636539383435
DTSTAMP:20260421T101902Z
DESCRIPTION:
DTSTART:20180906T070000Z
DTEND:20180906T080000Z
LOCATION:E1 3\, Hörsaal 002
SUMMARY:Sopra18: KI-Strategien
END:VEVENT
BEGIN:VEVENT
UID:35643962-3637-4632-b638-393864663437
DTSTAMP:20260421T101902Z
DESCRIPTION:
DTSTART:20180911T063000Z
DTEND:20180911T080000Z
LOCATION:E1 3\, Hörsaal 002
SUMMARY:Sopra18: Debugging-Strategien
END:VEVENT
BEGIN:VEVENT
UID:36376563-3936-4162-a336-386433393566
DTSTAMP:20260421T101902Z
DESCRIPTION:
DTSTART:20180917T080000Z
DTEND:20180918T160000Z
SUMMARY:Sopra18: Codereview
END:VEVENT
BEGIN:VEVENT
UID:37633163-3039-4163-b237-636362353432
DTSTAMP:20260421T101902Z
DESCRIPTION:
DTSTART:20180924T080000Z
DTEND:20180924T160000Z
SUMMARY:Sopra18: Codeabnahme
END:VEVENT
BEGIN:VEVENT
UID:61643230-6132-4338-a136-333236633238
DTSTAMP:20260421T101902Z
DESCRIPTION:
DTSTART:20180926T215900Z
DTEND:20180926T215900Z
SUMMARY:Sopra18: KI Qualifikation
END:VEVENT
BEGIN:VEVENT
UID:66633161-6235-4662-a264-323937383465
DTSTAMP:20260421T101902Z
DESCRIPTION:Weitere Infos finden Sie hier: https://cms.cispa.saarland/sopra
 18/4/Messe
DTSTART:20180928T080000Z
DTEND:20180928T140000Z
SUMMARY:Sopra18: Messe und Turnier
END:VEVENT
END:VCALENDAR
