BEGIN:VCALENDAR
VERSION:2.0
PRODID:-//127.0.1.1//NONSGML kigkonsult.se iCalcreator 2.41.92//
CALSCALE:GREGORIAN
METHOD:PUBLISH
UID:39316162-3136-4263-a637-626231643036
X-WR-CALNAME:Trusted and Secure Computing Calendar
X-WR-CALDESC:Events of the lecture Trusted and Secure Computing
X-WR-TIMEZONE:Europe/Berlin
BEGIN:VEVENT
UID:31353366-3637-4332-a336-313537653636
DTSTAMP:20260424T230755Z
DESCRIPTION:
DTSTART:20210528T080000Z
DTEND:20210528T100000Z
SUMMARY:TPM Vulnerabilities and Issues - Lukas Gerlach
END:VEVENT
BEGIN:VEVENT
UID:66636330-3135-4166-b932-326533383333
DTSTAMP:20260424T230755Z
DESCRIPTION:
DTSTART:20210604T080000Z
DTEND:20210604T100000Z
SUMMARY:Intel SGX Side-Channels - Daniel Weber
END:VEVENT
BEGIN:VEVENT
UID:66376638-6463-4130-a430-626237346132
DTSTAMP:20260424T230755Z
DESCRIPTION:
DTSTART:20210611T080000Z
DTEND:20210611T100000Z
SUMMARY:TrustZone Side-Channels and Attacks - Darian Hach
END:VEVENT
BEGIN:VEVENT
UID:65623036-6233-4666-b837-643035326336
DTSTAMP:20260424T230755Z
DESCRIPTION:
DTSTART:20210618T080000Z
DTEND:20210618T100000Z
SUMMARY:Intel SGX Design and Use-cases - Amir Heinisch
END:VEVENT
BEGIN:VEVENT
UID:63623466-3664-4835-b538-386365666665
DTSTAMP:20260424T230755Z
DESCRIPTION:
DTSTART:20210625T080000Z
DTEND:20210625T100000Z
SUMMARY:TPM Design and Deployments - Léonie Muller
END:VEVENT
BEGIN:VEVENT
UID:63326331-6237-4763-a239-353234303436
DTSTAMP:20260424T230755Z
DESCRIPTION:
DTSTART:20210702T080000Z
DTEND:20210702T100000Z
SUMMARY:Intel SGX Software Security - Daniel Berresheim
END:VEVENT
BEGIN:VEVENT
UID:36323033-3334-4766-b238-656561306132
DTSTAMP:20260424T230755Z
DESCRIPTION:
DTSTART:20210709T080000Z
DTEND:20210709T100000Z
SUMMARY:TEE Trusted I/O - Noah Mauthe
END:VEVENT
BEGIN:VEVENT
UID:36366231-6238-4735-b133-343238666561
DTSTAMP:20260424T230755Z
DESCRIPTION:
DTSTART:20210716T080000Z
DTEND:20210716T100000Z
SUMMARY:AMD SEV Design and Issues - Theodor Laudien
END:VEVENT
BEGIN:VEVENT
UID:39663934-6630-4438-b637-333236333666
DTSTAMP:20260424T230755Z
DESCRIPTION:
DTSTART:20210723T080000Z
DTEND:20210723T100000Z
SUMMARY:RISC-V Keystone Design - Jonas Büchner
END:VEVENT
END:VCALENDAR
