BEGIN:VCALENDAR
VERSION:2.0
PRODID:-//127.0.1.1//NONSGML kigkonsult.se iCalcreator 2.41.92//
CALSCALE:GREGORIAN
METHOD:PUBLISH
UID:62343033-3136-4335-b530-333164396165
X-WR-CALNAME:Trusted and Secure Computing Calendar
X-WR-CALDESC:Events of the lecture Trusted and Secure Computing
X-WR-TIMEZONE:Europe/Berlin
BEGIN:VEVENT
UID:33653765-3033-4662-a539-633038366130
DTSTAMP:20260424T230919Z
DESCRIPTION:
DTSTART:20210528T080000Z
DTEND:20210528T100000Z
SUMMARY:Tsc: TPM Vulnerabilities and Issues - Lukas Gerlach
END:VEVENT
BEGIN:VEVENT
UID:39623038-3032-4163-b564-363133643362
DTSTAMP:20260424T230919Z
DESCRIPTION:
DTSTART:20210604T080000Z
DTEND:20210604T100000Z
SUMMARY:Tsc: Intel SGX Side-Channels - Daniel Weber
END:VEVENT
BEGIN:VEVENT
UID:64363134-3962-4164-a231-646339306435
DTSTAMP:20260424T230919Z
DESCRIPTION:
DTSTART:20210611T080000Z
DTEND:20210611T100000Z
SUMMARY:Tsc: TrustZone Side-Channels and Attacks - Darian Hach
END:VEVENT
BEGIN:VEVENT
UID:35353036-3730-4333-b437-626561303531
DTSTAMP:20260424T230919Z
DESCRIPTION:
DTSTART:20210618T080000Z
DTEND:20210618T100000Z
SUMMARY:Tsc: Intel SGX Design and Use-cases - Amir Heinisch
END:VEVENT
BEGIN:VEVENT
UID:62333462-6338-4762-b864-336233356132
DTSTAMP:20260424T230919Z
DESCRIPTION:
DTSTART:20210625T080000Z
DTEND:20210625T100000Z
SUMMARY:Tsc: TPM Design and Deployments - Léonie Muller
END:VEVENT
BEGIN:VEVENT
UID:36326236-6439-4632-b464-616366333739
DTSTAMP:20260424T230919Z
DESCRIPTION:
DTSTART:20210702T080000Z
DTEND:20210702T100000Z
SUMMARY:Tsc: Intel SGX Software Security - Daniel Berresheim
END:VEVENT
BEGIN:VEVENT
UID:66343763-3166-4936-b130-633531646432
DTSTAMP:20260424T230919Z
DESCRIPTION:
DTSTART:20210709T080000Z
DTEND:20210709T100000Z
SUMMARY:Tsc: TEE Trusted I/O - Noah Mauthe
END:VEVENT
BEGIN:VEVENT
UID:64363538-6463-4230-b137-626263366339
DTSTAMP:20260424T230919Z
DESCRIPTION:
DTSTART:20210716T080000Z
DTEND:20210716T100000Z
SUMMARY:Tsc: AMD SEV Design and Issues - Theodor Laudien
END:VEVENT
BEGIN:VEVENT
UID:37636130-6261-4866-b565-666535376231
DTSTAMP:20260424T230919Z
DESCRIPTION:
DTSTART:20210723T080000Z
DTEND:20210723T100000Z
SUMMARY:Tsc: RISC-V Keystone Design - Jonas Büchner
END:VEVENT
END:VCALENDAR
