BEGIN:VCALENDAR
VERSION:2.0
PRODID:-//127.0.1.1//NONSGML kigkonsult.se iCalcreator 2.41.92//
CALSCALE:GREGORIAN
METHOD:PUBLISH
UID:34323230-3562-4461-b638-636466343463
X-WR-CALNAME:Usable Security Advanced Lecture Calendar
X-WR-CALDESC:Events of the lecture Usable Security Advanced Lecture
X-WR-TIMEZONE:Europe/Berlin
BEGIN:VEVENT
UID:38633364-6165-4761-b463-336333306466
DTSTAMP:20260420T085637Z
DESCRIPTION:
DTSTART:20260615T081500Z
DTEND:20260615T094500Z
LOCATION:CISPA Lecture Hall (Room 0.05)
SUMMARY:Usec26: Assignment (Qualitative)
END:VEVENT
BEGIN:VEVENT
UID:39323465-3564-4638-b363-373162396434
DTSTAMP:20260420T085637Z
DESCRIPTION:
DTSTART:20260706T081500Z
DTEND:20260706T094500Z
LOCATION:CISPA Lecture Hall (Room 0.05)
SUMMARY:Usec26: Assignment (Quantitative)
END:VEVENT
END:VCALENDAR
