BEGIN:VCALENDAR
VERSION:2.0
PRODID:-//127.0.1.1//NONSGML kigkonsult.se iCalcreator 2.41.92//
CALSCALE:GREGORIAN
METHOD:PUBLISH
UID:66366361-6430-4434-b336-386262393738
X-WR-CALNAME:Verification Calendar
X-WR-CALDESC:Events of the lecture Verification
X-WR-TIMEZONE:Europe/Berlin
BEGIN:VEVENT
UID:63333965-3937-4636-b961-653132313934
DTSTAMP:20260419T150833Z
DESCRIPTION:
DTSTART:20211019T121500Z
DTEND:20211019T140000Z
LOCATION:HS001\, E1 3
SUMMARY:Lecture
END:VEVENT
BEGIN:VEVENT
UID:31356136-6562-4939-b261-643536316333
DTSTAMP:20260419T150833Z
DESCRIPTION:
DTSTART:20211021T081500Z
DTEND:20211021T100000Z
LOCATION:HS001\, E1 3
SUMMARY:Lecture
END:VEVENT
BEGIN:VEVENT
UID:33636637-3262-4361-b361-386437656265
DTSTAMP:20260419T150833Z
DESCRIPTION:
DTSTART:20211026T121500Z
DTEND:20211026T140000Z
LOCATION:HS001\, E1 3
SUMMARY:Lecture
END:VEVENT
BEGIN:VEVENT
UID:64363338-6235-4432-b339-306266373430
DTSTAMP:20260419T150833Z
DESCRIPTION:
DTSTART:20211028T081500Z
DTEND:20211028T100000Z
LOCATION:HS001\, E1 3
SUMMARY:Lecture
END:VEVENT
BEGIN:VEVENT
UID:39306364-6235-4230-a661-346436323235
DTSTAMP:20260419T150833Z
DESCRIPTION:
DTSTART:20211102T131500Z
DTEND:20211102T150000Z
LOCATION:HS001\, E1 3
SUMMARY:Lecture
END:VEVENT
BEGIN:VEVENT
UID:62666330-3636-4232-b063-633332646437
DTSTAMP:20260419T150833Z
DESCRIPTION:
DTSTART:20211104T091500Z
DTEND:20211104T110000Z
LOCATION:HS001\, E1 3
SUMMARY:Lecture
END:VEVENT
BEGIN:VEVENT
UID:66356338-6331-4664-a365-666365633033
DTSTAMP:20260419T150833Z
DESCRIPTION:
DTSTART:20211109T131500Z
DTEND:20211109T150000Z
LOCATION:HS001\, E1 3
SUMMARY:Lecture
END:VEVENT
BEGIN:VEVENT
UID:31326338-6535-4137-b638-656638623663
DTSTAMP:20260419T150833Z
DESCRIPTION:
DTSTART:20211111T091500Z
DTEND:20211111T110000Z
LOCATION:HS001\, E1 3
SUMMARY:Lecture
END:VEVENT
BEGIN:VEVENT
UID:61396331-3631-4464-b731-313136383736
DTSTAMP:20260419T150833Z
DESCRIPTION:
DTSTART:20211116T131500Z
DTEND:20211116T150000Z
LOCATION:HS001\, E1 3
SUMMARY:Lecture
END:VEVENT
BEGIN:VEVENT
UID:61343739-3731-4438-a461-356632366435
DTSTAMP:20260419T150833Z
DESCRIPTION:
DTSTART:20211118T091500Z
DTEND:20211118T110000Z
LOCATION:HS001\, E1 3
SUMMARY:Lecture
END:VEVENT
BEGIN:VEVENT
UID:32666137-6363-4330-b864-613439376633
DTSTAMP:20260419T150833Z
DESCRIPTION:
DTSTART:20211123T131500Z
DTEND:20211123T150000Z
LOCATION:HS001\, E1 3
SUMMARY:Lecture
END:VEVENT
BEGIN:VEVENT
UID:61313231-3664-4538-b139-313539343866
DTSTAMP:20260419T150833Z
DESCRIPTION:
DTSTART:20211125T091500Z
DTEND:20211125T110000Z
LOCATION:HS001\, E1 3
SUMMARY:Lecture
END:VEVENT
BEGIN:VEVENT
UID:65333362-6339-4266-b966-323135643334
DTSTAMP:20260419T150833Z
DESCRIPTION:
DTSTART:20211130T131500Z
DTEND:20211130T150000Z
LOCATION:HS001\, E1 3
SUMMARY:Lecture
END:VEVENT
BEGIN:VEVENT
UID:34613732-3534-4839-b233-353335303764
DTSTAMP:20260419T150833Z
DESCRIPTION:
DTSTART:20211202T091500Z
DTEND:20211202T110000Z
LOCATION:HS001\, E1 3
SUMMARY:Lecture
END:VEVENT
BEGIN:VEVENT
UID:37376537-3261-4461-a334-663934633231
DTSTAMP:20260419T150833Z
DESCRIPTION:
DTSTART:20211207T131500Z
DTEND:20211207T150000Z
LOCATION:HS001\, E1 3
SUMMARY:Lecture
END:VEVENT
BEGIN:VEVENT
UID:32643863-3161-4936-b065-356136313266
DTSTAMP:20260419T150833Z
DESCRIPTION:
DTSTART:20211209T091500Z
DTEND:20211209T110000Z
LOCATION:HS001\, E1 3
SUMMARY:Lecture
END:VEVENT
BEGIN:VEVENT
UID:33636136-3062-4362-a238-623333383463
DTSTAMP:20260419T150833Z
DESCRIPTION:
DTSTART:20211214T131500Z
DTEND:20211214T150000Z
LOCATION:HS001\, E1 3
SUMMARY:Lecture
END:VEVENT
BEGIN:VEVENT
UID:30383564-6465-4965-b137-383533343732
DTSTAMP:20260419T150833Z
DESCRIPTION:
DTSTART:20211216T091500Z
DTEND:20211216T110000Z
LOCATION:HS001\, E1 3
SUMMARY:Lecture
END:VEVENT
BEGIN:VEVENT
UID:61653036-3064-4232-a534-616461363430
DTSTAMP:20260419T150833Z
DESCRIPTION:
DTSTART:20220104T131500Z
DTEND:20220104T150000Z
LOCATION:HS001\, E1 3
SUMMARY:Lecture
END:VEVENT
BEGIN:VEVENT
UID:35383462-6261-4561-a538-393065613164
DTSTAMP:20260419T150833Z
DESCRIPTION:
DTSTART:20220106T091500Z
DTEND:20220106T110000Z
LOCATION:HS001\, E1 3
SUMMARY:Lecture
END:VEVENT
BEGIN:VEVENT
UID:62316630-6664-4765-b162-383432316130
DTSTAMP:20260419T150833Z
DESCRIPTION:
DTSTART:20220111T131500Z
DTEND:20220111T150000Z
LOCATION:HS001\, E1 3
SUMMARY:Lecture
END:VEVENT
BEGIN:VEVENT
UID:32313230-6131-4931-b738-623731643838
DTSTAMP:20260419T150833Z
DESCRIPTION:
DTSTART:20220113T091500Z
DTEND:20220113T110000Z
LOCATION:HS001\, E1 3
SUMMARY:Lecture
END:VEVENT
BEGIN:VEVENT
UID:33323065-6232-4735-b830-613830396332
DTSTAMP:20260419T150833Z
DESCRIPTION:
DTSTART:20220118T131500Z
DTEND:20220118T150000Z
LOCATION:HS001\, E1 3
SUMMARY:Lecture
END:VEVENT
BEGIN:VEVENT
UID:37346235-6537-4065-a438-393530396562
DTSTAMP:20260419T150833Z
DESCRIPTION:
DTSTART:20220120T091500Z
DTEND:20220120T110000Z
LOCATION:HS001\, E1 3
SUMMARY:Lecture
END:VEVENT
BEGIN:VEVENT
UID:34663664-3164-4866-a563-616431646335
DTSTAMP:20260419T150833Z
DESCRIPTION:
DTSTART:20220125T131500Z
DTEND:20220125T150000Z
LOCATION:HS001\, E1 3
SUMMARY:Lecture
END:VEVENT
BEGIN:VEVENT
UID:63386239-3865-4031-b231-643537366164
DTSTAMP:20260419T150833Z
DESCRIPTION:
DTSTART:20220127T091500Z
DTEND:20220127T110000Z
LOCATION:HS001\, E1 3
SUMMARY:Lecture
END:VEVENT
BEGIN:VEVENT
UID:30343063-3933-4038-b532-353161306366
DTSTAMP:20260419T150833Z
DESCRIPTION:
DTSTART:20220201T131500Z
DTEND:20220201T150000Z
LOCATION:HS001\, E1 3
SUMMARY:Lecture
END:VEVENT
BEGIN:VEVENT
UID:35636632-3139-4532-b764-613264323161
DTSTAMP:20260419T150833Z
DESCRIPTION:
DTSTART:20220203T091500Z
DTEND:20220203T110000Z
LOCATION:HS001\, E1 3
SUMMARY:Lecture
END:VEVENT
BEGIN:VEVENT
UID:36663032-6233-4461-a639-343330323565
DTSTAMP:20260419T150833Z
DESCRIPTION:
DTSTART:20220208T131500Z
DTEND:20220208T150000Z
LOCATION:HS001\, E1 3
SUMMARY:Lecture
END:VEVENT
BEGIN:VEVENT
UID:34323262-3464-4161-a634-643063646236
DTSTAMP:20260419T150833Z
DESCRIPTION:
DTSTART:20220210T091500Z
DTEND:20220210T110000Z
LOCATION:HS001\, E1 3
SUMMARY:Lecture
END:VEVENT
END:VCALENDAR
