BEGIN:VCALENDAR
VERSION:2.0
PRODID:-//127.0.1.1//NONSGML kigkonsult.se iCalcreator 2.41.92//
CALSCALE:GREGORIAN
METHOD:PUBLISH
UID:35663531-3136-4162-a662-386133333862
X-WR-CALNAME:Verification Calendar
X-WR-CALDESC:Events of the lecture Verification
X-WR-TIMEZONE:Europe/Berlin
BEGIN:VEVENT
UID:61353063-3662-4465-b365-336636613433
DTSTAMP:20260419T150858Z
DESCRIPTION:
DTSTART:20211029T081500Z
DTEND:20211029T100000Z
LOCATION:Room 206\, E1 1
SUMMARY:Tutorial 1
END:VEVENT
BEGIN:VEVENT
UID:35383633-6161-4437-a162-383932373763
DTSTAMP:20260419T150858Z
DESCRIPTION:
DTSTART:20211029T101500Z
DTEND:20211029T120000Z
LOCATION:Room 206\, E1 1
SUMMARY:Tutorial 2
END:VEVENT
BEGIN:VEVENT
UID:33623533-3332-4366-b064-373538323531
DTSTAMP:20260419T150858Z
DESCRIPTION:
DTSTART:20211105T091500Z
DTEND:20211105T110000Z
LOCATION:Room 206\, E1 1
SUMMARY:Tutorial 1
END:VEVENT
BEGIN:VEVENT
UID:65313863-6531-4133-b065-356532663135
DTSTAMP:20260419T150858Z
DESCRIPTION:
DTSTART:20211105T111500Z
DTEND:20211105T130000Z
LOCATION:Room 206\, E1 1
SUMMARY:Tutorial 2
END:VEVENT
BEGIN:VEVENT
UID:37663738-3035-4463-b364-336262373238
DTSTAMP:20260419T150858Z
DESCRIPTION:
DTSTART:20211112T091500Z
DTEND:20211112T110000Z
LOCATION:Room 206\, E1 1
SUMMARY:Tutorial 1
END:VEVENT
BEGIN:VEVENT
UID:34643937-6132-4334-b261-383836623533
DTSTAMP:20260419T150858Z
DESCRIPTION:
DTSTART:20211112T111500Z
DTEND:20211112T130000Z
LOCATION:Room 206\, E1 1
SUMMARY:Tutorial 2
END:VEVENT
BEGIN:VEVENT
UID:38396534-3231-4333-b237-616562383931
DTSTAMP:20260419T150858Z
DESCRIPTION:
DTSTART:20211119T091500Z
DTEND:20211119T110000Z
LOCATION:Room 206\, E1 1
SUMMARY:Tutorial 1
END:VEVENT
BEGIN:VEVENT
UID:39376265-3963-4131-b464-363230353161
DTSTAMP:20260419T150858Z
DESCRIPTION:
DTSTART:20211119T111500Z
DTEND:20211119T130000Z
LOCATION:Room 206\, E1 1
SUMMARY:Tutorial 2
END:VEVENT
BEGIN:VEVENT
UID:61633561-3338-4736-a535-316238373266
DTSTAMP:20260419T150858Z
DESCRIPTION:
DTSTART:20211126T091500Z
DTEND:20211126T110000Z
LOCATION:Room 206\, E1 1
SUMMARY:Tutorial 1
END:VEVENT
BEGIN:VEVENT
UID:32636639-6666-4334-a332-303830646438
DTSTAMP:20260419T150858Z
DESCRIPTION:
DTSTART:20211126T111500Z
DTEND:20211126T130000Z
LOCATION:Room 206\, E1 1
SUMMARY:Tutorial 2
END:VEVENT
BEGIN:VEVENT
UID:34646665-3430-4834-b234-333464373763
DTSTAMP:20260419T150858Z
DESCRIPTION:
DTSTART:20211203T091500Z
DTEND:20211203T110000Z
LOCATION:Room 206\, E1 1
SUMMARY:Tutorial 1
END:VEVENT
BEGIN:VEVENT
UID:31366432-6339-4465-b030-613161653333
DTSTAMP:20260419T150858Z
DESCRIPTION:
DTSTART:20211203T111500Z
DTEND:20211203T130000Z
LOCATION:Room 206\, E1 1
SUMMARY:Tutorial 2
END:VEVENT
BEGIN:VEVENT
UID:65356164-6261-4337-b631-306530336562
DTSTAMP:20260419T150858Z
DESCRIPTION:
DTSTART:20211210T091500Z
DTEND:20211210T110000Z
LOCATION:Room 206\, E1 1
SUMMARY:Tutorial 1
END:VEVENT
BEGIN:VEVENT
UID:33346233-6536-4162-a334-396338356234
DTSTAMP:20260419T150858Z
DESCRIPTION:
DTSTART:20211210T111500Z
DTEND:20211210T130000Z
LOCATION:Room 206\, E1 1
SUMMARY:Tutorial 2
END:VEVENT
BEGIN:VEVENT
UID:34323136-3932-4264-a235-383065336332
DTSTAMP:20260419T150858Z
DESCRIPTION:
DTSTART:20211217T091500Z
DTEND:20211217T110000Z
LOCATION:Room 206\, E1 1
SUMMARY:Tutorial 1
END:VEVENT
BEGIN:VEVENT
UID:64346138-3132-4735-b165-376463663439
DTSTAMP:20260419T150858Z
DESCRIPTION:
DTSTART:20211217T111500Z
DTEND:20211217T130000Z
LOCATION:Room 206\, E1 1
SUMMARY:Tutorial 2
END:VEVENT
BEGIN:VEVENT
UID:64313632-3436-4236-b165-666166336266
DTSTAMP:20260419T150858Z
DESCRIPTION:
DTSTART:20220107T091500Z
DTEND:20220107T110000Z
LOCATION:Room 206\, E1 1
SUMMARY:Tutorial 1
END:VEVENT
BEGIN:VEVENT
UID:36356639-6232-4233-b035-376435376635
DTSTAMP:20260419T150858Z
DESCRIPTION:
DTSTART:20220107T111500Z
DTEND:20220107T130000Z
LOCATION:Room 206\, E1 1
SUMMARY:Tutorial 2
END:VEVENT
BEGIN:VEVENT
UID:36356262-3362-4462-b931-626537333330
DTSTAMP:20260419T150858Z
DESCRIPTION:
DTSTART:20220114T091500Z
DTEND:20220114T110000Z
LOCATION:Room 206\, E1 1
SUMMARY:Tutorial 1
END:VEVENT
BEGIN:VEVENT
UID:39636337-3233-4836-a262-323837326537
DTSTAMP:20260419T150858Z
DESCRIPTION:
DTSTART:20220114T111500Z
DTEND:20220114T130000Z
LOCATION:Room 206\, E1 1
SUMMARY:Tutorial 2
END:VEVENT
BEGIN:VEVENT
UID:66396130-3339-4164-a632-356233316633
DTSTAMP:20260419T150858Z
DESCRIPTION:
DTSTART:20220121T091500Z
DTEND:20220121T110000Z
LOCATION:Room 206\, E1 1
SUMMARY:Tutorial 1
END:VEVENT
BEGIN:VEVENT
UID:30316463-6338-4130-b662-616232346432
DTSTAMP:20260419T150858Z
DESCRIPTION:
DTSTART:20220121T111500Z
DTEND:20220121T130000Z
LOCATION:Room 206\, E1 1
SUMMARY:Tutorial 2
END:VEVENT
BEGIN:VEVENT
UID:39616362-3539-4162-b534-356634623636
DTSTAMP:20260419T150858Z
DESCRIPTION:
DTSTART:20220128T091500Z
DTEND:20220128T110000Z
LOCATION:Room 206\, E1 1
SUMMARY:Tutorial 1
END:VEVENT
BEGIN:VEVENT
UID:34306338-6338-4864-b038-616339653461
DTSTAMP:20260419T150858Z
DESCRIPTION:
DTSTART:20220128T111500Z
DTEND:20220128T130000Z
LOCATION:Room 206\, E1 1
SUMMARY:Tutorial 2
END:VEVENT
BEGIN:VEVENT
UID:64646638-3239-4363-a230-366566346333
DTSTAMP:20260419T150858Z
DESCRIPTION:
DTSTART:20220204T091500Z
DTEND:20220204T110000Z
LOCATION:Room 206\, E1 1
SUMMARY:Tutorial 1
END:VEVENT
BEGIN:VEVENT
UID:39623261-6132-4633-a231-326439633931
DTSTAMP:20260419T150858Z
DESCRIPTION:
DTSTART:20220204T111500Z
DTEND:20220204T130000Z
LOCATION:Room 206\, E1 1
SUMMARY:Tutorial 2
END:VEVENT
BEGIN:VEVENT
UID:66393065-3531-4034-b733-363330346665
DTSTAMP:20260419T150858Z
DESCRIPTION:
DTSTART:20220211T091500Z
DTEND:20220211T110000Z
LOCATION:Room 206\, E1 1
SUMMARY:Tutorial 1
END:VEVENT
BEGIN:VEVENT
UID:34656266-3662-4837-b730-343231643534
DTSTAMP:20260419T150858Z
DESCRIPTION:
DTSTART:20220211T111500Z
DTEND:20220211T130000Z
LOCATION:Room 206\, E1 1
SUMMARY:Tutorial 2
END:VEVENT
END:VCALENDAR
