BEGIN:VCALENDAR
VERSION:2.0
PRODID:-//127.0.1.1//NONSGML kigkonsult.se iCalcreator 2.41.92//
CALSCALE:GREGORIAN
METHOD:PUBLISH
UID:64353666-6632-4864-b730-323631323731
X-WR-CALNAME:Verification Calendar
X-WR-CALDESC:Events of the lecture Verification
X-WR-TIMEZONE:Europe/Berlin
BEGIN:VEVENT
UID:62373736-3132-4530-b461-633366643464
DTSTAMP:20260419T133427Z
DESCRIPTION:
DTSTART:20211027T081500Z
DTEND:20211027T100000Z
LOCATION:Room 106\, E1 1
SUMMARY:Office Hour
END:VEVENT
BEGIN:VEVENT
UID:37653363-6365-4433-b264-613135626564
DTSTAMP:20260419T133427Z
DESCRIPTION:
DTSTART:20211103T091500Z
DTEND:20211103T110000Z
LOCATION:Room 106\, E1 1
SUMMARY:Office Hour
END:VEVENT
BEGIN:VEVENT
UID:33643163-3438-4937-a637-663632366638
DTSTAMP:20260419T133427Z
DESCRIPTION:
DTSTART:20211110T091500Z
DTEND:20211110T110000Z
LOCATION:Room 106\, E1 1
SUMMARY:Office Hour
END:VEVENT
BEGIN:VEVENT
UID:37656637-6463-4161-b365-326562323161
DTSTAMP:20260419T133427Z
DESCRIPTION:
DTSTART:20211117T091500Z
DTEND:20211117T110000Z
LOCATION:Room 106\, E1 1
SUMMARY:Office Hour
END:VEVENT
BEGIN:VEVENT
UID:36353731-3162-4430-b335-343462366239
DTSTAMP:20260419T133427Z
DESCRIPTION:
DTSTART:20211124T091500Z
DTEND:20211124T110000Z
LOCATION:Room 106\, E1 1
SUMMARY:Office Hour
END:VEVENT
BEGIN:VEVENT
UID:63343336-6263-4531-b535-636236636665
DTSTAMP:20260419T133427Z
DESCRIPTION:
DTSTART:20211201T091500Z
DTEND:20211201T110000Z
LOCATION:Room 106\, E1 1
SUMMARY:Office Hour
END:VEVENT
BEGIN:VEVENT
UID:32386333-3037-4331-b133-366463303361
DTSTAMP:20260419T133427Z
DESCRIPTION:
DTSTART:20211208T091500Z
DTEND:20211208T110000Z
LOCATION:Room 106\, E1 1
SUMMARY:Office Hour
END:VEVENT
BEGIN:VEVENT
UID:32633437-3564-4234-b962-313564623933
DTSTAMP:20260419T133427Z
DESCRIPTION:
DTSTART:20211215T091500Z
DTEND:20211215T110000Z
LOCATION:Room 106\, E1 1
SUMMARY:Office Hour
END:VEVENT
BEGIN:VEVENT
UID:33636334-3030-4266-b334-653834353638
DTSTAMP:20260419T133427Z
DESCRIPTION:
DTSTART:20220105T091500Z
DTEND:20220105T110000Z
LOCATION:Room 106\, E1 1
SUMMARY:Office Hour
END:VEVENT
BEGIN:VEVENT
UID:31333561-3061-4838-b539-373164646633
DTSTAMP:20260419T133427Z
DESCRIPTION:
DTSTART:20220112T091500Z
DTEND:20220112T110000Z
LOCATION:Room 106\, E1 1
SUMMARY:Office Hour
END:VEVENT
BEGIN:VEVENT
UID:66323434-6238-4236-a362-646335333563
DTSTAMP:20260419T133427Z
DESCRIPTION:
DTSTART:20220119T091500Z
DTEND:20220119T110000Z
LOCATION:Room 106\, E1 1
SUMMARY:Office Hour
END:VEVENT
BEGIN:VEVENT
UID:38333731-6234-4066-b365-336664336361
DTSTAMP:20260419T133427Z
DESCRIPTION:
DTSTART:20220126T091500Z
DTEND:20220126T110000Z
LOCATION:Room 106\, E1 1
SUMMARY:Office Hour
END:VEVENT
BEGIN:VEVENT
UID:61356337-6164-4462-b836-366339393835
DTSTAMP:20260419T133427Z
DESCRIPTION:
DTSTART:20220202T091500Z
DTEND:20220202T110000Z
LOCATION:Room 106\, E1 1
SUMMARY:Office Hour
END:VEVENT
BEGIN:VEVENT
UID:39373435-3664-4031-b139-656137616464
DTSTAMP:20260419T133427Z
DESCRIPTION:
DTSTART:20220209T091500Z
DTEND:20220209T110000Z
LOCATION:Room 106\, E1 1
SUMMARY:Office Hour
END:VEVENT
BEGIN:VEVENT
UID:61393862-6563-4538-b630-313932353938
DTSTAMP:20260419T133427Z
DESCRIPTION:
DTSTART:20220216T090000Z
DTEND:20220216T110000Z
LOCATION:MS Teams
SUMMARY:Office Hour
END:VEVENT
BEGIN:VEVENT
UID:64343535-3332-4163-a666-623237316466
DTSTAMP:20260419T133427Z
DESCRIPTION:
DTSTART:20220221T090000Z
DTEND:20220221T110000Z
LOCATION:MS Teams
SUMMARY:Office Hour
END:VEVENT
END:VCALENDAR
