BEGIN:VCALENDAR
VERSION:2.0
PRODID:-//127.0.1.1//NONSGML kigkonsult.se iCalcreator 2.41.92//
CALSCALE:GREGORIAN
METHOD:PUBLISH
UID:30326539-3166-4835-a139-626438353834
X-WR-CALNAME:Verification Calendar
X-WR-CALDESC:Events of the lecture Verification
X-WR-TIMEZONE:Europe/Berlin
BEGIN:VEVENT
UID:39386134-6330-4334-b531-333062333835
DTSTAMP:20260419T220532Z
DESCRIPTION:
DTSTART:20211208T225900Z
DTEND:20211208T225900Z
SUMMARY:Project Part 1
END:VEVENT
BEGIN:VEVENT
UID:34636230-3036-4466-a639-626339616335
DTSTAMP:20260419T220532Z
DESCRIPTION:
DTSTART:20220112T225900Z
DTEND:20220112T225900Z
SUMMARY:Project Part 2
END:VEVENT
BEGIN:VEVENT
UID:61313361-3562-4362-b965-373431303061
DTSTAMP:20260419T220532Z
DESCRIPTION:
DTSTART:20220217T225900Z
DTEND:20220217T225900Z
SUMMARY:Project Part 3
END:VEVENT
END:VCALENDAR
