BEGIN:VCALENDAR
VERSION:2.0
PRODID:-//127.0.1.1//NONSGML kigkonsult.se iCalcreator 2.41.92//
CALSCALE:GREGORIAN
METHOD:PUBLISH
UID:63636165-3939-4536-b764-393038306430
X-WR-CALNAME:Verification Calendar
X-WR-CALDESC:Events of the lecture Verification
X-WR-TIMEZONE:Europe/Berlin
BEGIN:VEVENT
UID:62303636-3538-4033-b438-316430346263
DTSTAMP:20260420T070502Z
DESCRIPTION:
DTSTART:20211019T121500Z
DTEND:20211019T140000Z
LOCATION:HS001\, E1 3
SUMMARY:Ver2122: Lecture
END:VEVENT
BEGIN:VEVENT
UID:66343331-6666-4235-b231-336134666530
DTSTAMP:20260420T070502Z
DESCRIPTION:
DTSTART:20211021T081500Z
DTEND:20211021T100000Z
LOCATION:HS001\, E1 3
SUMMARY:Ver2122: Lecture
END:VEVENT
BEGIN:VEVENT
UID:39396230-3866-4236-b338-613733636337
DTSTAMP:20260420T070502Z
DESCRIPTION:
DTSTART:20211026T121500Z
DTEND:20211026T140000Z
LOCATION:HS001\, E1 3
SUMMARY:Ver2122: Lecture
END:VEVENT
BEGIN:VEVENT
UID:34633930-6630-4639-b362-623630323064
DTSTAMP:20260420T070502Z
DESCRIPTION:
DTSTART:20211027T081500Z
DTEND:20211027T100000Z
LOCATION:Room 106\, E1 1
SUMMARY:Ver2122: Office Hour
END:VEVENT
BEGIN:VEVENT
UID:30366339-3935-4263-a436-396662323263
DTSTAMP:20260420T070502Z
DESCRIPTION:
DTSTART:20211028T081500Z
DTEND:20211028T100000Z
LOCATION:HS001\, E1 3
SUMMARY:Ver2122: Lecture
END:VEVENT
BEGIN:VEVENT
UID:35646466-3936-4565-b665-643633366165
DTSTAMP:20260420T070502Z
DESCRIPTION:
DTSTART:20211029T081500Z
DTEND:20211029T100000Z
LOCATION:Room 206\, E1 1
SUMMARY:Ver2122: Tutorial 1
END:VEVENT
BEGIN:VEVENT
UID:64663230-3437-4939-a565-636230643761
DTSTAMP:20260420T070502Z
DESCRIPTION:
DTSTART:20211029T101500Z
DTEND:20211029T120000Z
LOCATION:Room 206\, E1 1
SUMMARY:Ver2122: Tutorial 2
END:VEVENT
BEGIN:VEVENT
UID:63653663-6334-4663-b666-353337613636
DTSTAMP:20260420T070502Z
DESCRIPTION:
DTSTART:20211102T131500Z
DTEND:20211102T150000Z
LOCATION:HS001\, E1 3
SUMMARY:Ver2122: Lecture
END:VEVENT
BEGIN:VEVENT
UID:62383632-3735-4662-a138-333364386261
DTSTAMP:20260420T070502Z
DESCRIPTION:
DTSTART:20211103T091500Z
DTEND:20211103T110000Z
LOCATION:Room 106\, E1 1
SUMMARY:Ver2122: Office Hour
END:VEVENT
BEGIN:VEVENT
UID:39393931-6639-4566-b161-326666356333
DTSTAMP:20260420T070502Z
DESCRIPTION:
DTSTART:20211104T091500Z
DTEND:20211104T110000Z
LOCATION:HS001\, E1 3
SUMMARY:Ver2122: Lecture
END:VEVENT
BEGIN:VEVENT
UID:39636632-3564-4934-a634-303863333338
DTSTAMP:20260420T070502Z
DESCRIPTION:
DTSTART:20211105T091500Z
DTEND:20211105T110000Z
LOCATION:Room 206\, E1 1
SUMMARY:Ver2122: Tutorial 1
END:VEVENT
BEGIN:VEVENT
UID:34356665-3463-4732-a566-353263663362
DTSTAMP:20260420T070502Z
DESCRIPTION:
DTSTART:20211105T111500Z
DTEND:20211105T130000Z
LOCATION:Room 206\, E1 1
SUMMARY:Ver2122: Tutorial 2
END:VEVENT
BEGIN:VEVENT
UID:63383139-6132-4862-b934-366563336261
DTSTAMP:20260420T070502Z
DESCRIPTION:
DTSTART:20211109T131500Z
DTEND:20211109T150000Z
LOCATION:HS001\, E1 3
SUMMARY:Ver2122: Lecture
END:VEVENT
BEGIN:VEVENT
UID:66373366-3733-4334-b833-343238393935
DTSTAMP:20260420T070502Z
DESCRIPTION:
DTSTART:20211110T091500Z
DTEND:20211110T110000Z
LOCATION:Room 106\, E1 1
SUMMARY:Ver2122: Office Hour
END:VEVENT
BEGIN:VEVENT
UID:63373037-3162-4336-a237-646464366334
DTSTAMP:20260420T070502Z
DESCRIPTION:
DTSTART:20211111T091500Z
DTEND:20211111T110000Z
LOCATION:HS001\, E1 3
SUMMARY:Ver2122: Lecture
END:VEVENT
BEGIN:VEVENT
UID:66646263-6133-4162-b562-666466343839
DTSTAMP:20260420T070502Z
DESCRIPTION:
DTSTART:20211112T091500Z
DTEND:20211112T110000Z
LOCATION:Room 206\, E1 1
SUMMARY:Ver2122: Tutorial 1
END:VEVENT
BEGIN:VEVENT
UID:62396534-6464-4431-a336-646530323162
DTSTAMP:20260420T070502Z
DESCRIPTION:
DTSTART:20211112T111500Z
DTEND:20211112T130000Z
LOCATION:Room 206\, E1 1
SUMMARY:Ver2122: Tutorial 2
END:VEVENT
BEGIN:VEVENT
UID:61326630-3861-4763-b533-386438353839
DTSTAMP:20260420T070502Z
DESCRIPTION:
DTSTART:20211116T131500Z
DTEND:20211116T150000Z
LOCATION:HS001\, E1 3
SUMMARY:Ver2122: Lecture
END:VEVENT
BEGIN:VEVENT
UID:39633038-3531-4966-b830-333163343931
DTSTAMP:20260420T070502Z
DESCRIPTION:
DTSTART:20211117T091500Z
DTEND:20211117T110000Z
LOCATION:Room 106\, E1 1
SUMMARY:Ver2122: Office Hour
END:VEVENT
BEGIN:VEVENT
UID:35623938-3765-4935-a262-613038316661
DTSTAMP:20260420T070502Z
DESCRIPTION:
DTSTART:20211118T091500Z
DTEND:20211118T110000Z
LOCATION:HS001\, E1 3
SUMMARY:Ver2122: Lecture
END:VEVENT
BEGIN:VEVENT
UID:39386536-3332-4465-a632-653362643261
DTSTAMP:20260420T070502Z
DESCRIPTION:
DTSTART:20211119T091500Z
DTEND:20211119T110000Z
LOCATION:Room 206\, E1 1
SUMMARY:Ver2122: Tutorial 1
END:VEVENT
BEGIN:VEVENT
UID:61373362-6265-4763-a266-383230396332
DTSTAMP:20260420T070502Z
DESCRIPTION:
DTSTART:20211119T111500Z
DTEND:20211119T130000Z
LOCATION:Room 206\, E1 1
SUMMARY:Ver2122: Tutorial 2
END:VEVENT
BEGIN:VEVENT
UID:34643663-6632-4531-a537-356530356462
DTSTAMP:20260420T070502Z
DESCRIPTION:
DTSTART:20211123T131500Z
DTEND:20211123T150000Z
LOCATION:HS001\, E1 3
SUMMARY:Ver2122: Lecture
END:VEVENT
BEGIN:VEVENT
UID:38336361-3536-4539-b539-363963636532
DTSTAMP:20260420T070502Z
DESCRIPTION:
DTSTART:20211124T091500Z
DTEND:20211124T110000Z
LOCATION:Room 106\, E1 1
SUMMARY:Ver2122: Office Hour
END:VEVENT
BEGIN:VEVENT
UID:39343564-3833-4039-a566-653036663265
DTSTAMP:20260420T070502Z
DESCRIPTION:
DTSTART:20211125T091500Z
DTEND:20211125T110000Z
LOCATION:HS001\, E1 3
SUMMARY:Ver2122: Lecture
END:VEVENT
BEGIN:VEVENT
UID:61656138-6632-4531-b837-633038656162
DTSTAMP:20260420T070502Z
DESCRIPTION:
DTSTART:20211126T091500Z
DTEND:20211126T110000Z
LOCATION:Room 206\, E1 1
SUMMARY:Ver2122: Tutorial 1
END:VEVENT
BEGIN:VEVENT
UID:36663566-3932-4432-b563-386431396166
DTSTAMP:20260420T070502Z
DESCRIPTION:
DTSTART:20211126T111500Z
DTEND:20211126T130000Z
LOCATION:Room 206\, E1 1
SUMMARY:Ver2122: Tutorial 2
END:VEVENT
BEGIN:VEVENT
UID:39383365-3864-4638-b165-376434386231
DTSTAMP:20260420T070502Z
DESCRIPTION:
DTSTART:20211130T131500Z
DTEND:20211130T150000Z
LOCATION:HS001\, E1 3
SUMMARY:Ver2122: Lecture
END:VEVENT
BEGIN:VEVENT
UID:32653165-3738-4363-b231-353066313734
DTSTAMP:20260420T070502Z
DESCRIPTION:
DTSTART:20211201T091500Z
DTEND:20211201T110000Z
LOCATION:Room 106\, E1 1
SUMMARY:Ver2122: Office Hour
END:VEVENT
BEGIN:VEVENT
UID:66646664-3065-4464-b265-626563643333
DTSTAMP:20260420T070502Z
DESCRIPTION:
DTSTART:20211202T091500Z
DTEND:20211202T110000Z
LOCATION:HS001\, E1 3
SUMMARY:Ver2122: Lecture
END:VEVENT
BEGIN:VEVENT
UID:32636565-6366-4564-a161-303137633736
DTSTAMP:20260420T070502Z
DESCRIPTION:
DTSTART:20211203T091500Z
DTEND:20211203T110000Z
LOCATION:Room 206\, E1 1
SUMMARY:Ver2122: Tutorial 1
END:VEVENT
BEGIN:VEVENT
UID:65393130-6162-4464-b431-313065323661
DTSTAMP:20260420T070502Z
DESCRIPTION:
DTSTART:20211203T111500Z
DTEND:20211203T130000Z
LOCATION:Room 206\, E1 1
SUMMARY:Ver2122: Tutorial 2
END:VEVENT
BEGIN:VEVENT
UID:32376163-3131-4131-b239-343639323266
DTSTAMP:20260420T070502Z
DESCRIPTION:
DTSTART:20211207T131500Z
DTEND:20211207T150000Z
LOCATION:HS001\, E1 3
SUMMARY:Ver2122: Lecture
END:VEVENT
BEGIN:VEVENT
UID:35666431-3863-4662-b337-633337353664
DTSTAMP:20260420T070502Z
DESCRIPTION:
DTSTART:20211208T091500Z
DTEND:20211208T110000Z
LOCATION:Room 106\, E1 1
SUMMARY:Ver2122: Office Hour
END:VEVENT
BEGIN:VEVENT
UID:38366161-3765-4437-b838-613338646331
DTSTAMP:20260420T070502Z
DESCRIPTION:
DTSTART:20211208T225900Z
DTEND:20211208T225900Z
SUMMARY:Ver2122: Project Part 1
END:VEVENT
BEGIN:VEVENT
UID:66306361-3835-4239-b865-346235346130
DTSTAMP:20260420T070502Z
DESCRIPTION:
DTSTART:20211209T091500Z
DTEND:20211209T110000Z
LOCATION:HS001\, E1 3
SUMMARY:Ver2122: Lecture
END:VEVENT
BEGIN:VEVENT
UID:30363662-3331-4665-b333-333931356661
DTSTAMP:20260420T070502Z
DESCRIPTION:
DTSTART:20211210T091500Z
DTEND:20211210T110000Z
LOCATION:Room 206\, E1 1
SUMMARY:Ver2122: Tutorial 1
END:VEVENT
BEGIN:VEVENT
UID:64316532-3633-4634-b963-343434613738
DTSTAMP:20260420T070502Z
DESCRIPTION:
DTSTART:20211210T111500Z
DTEND:20211210T130000Z
LOCATION:Room 206\, E1 1
SUMMARY:Ver2122: Tutorial 2
END:VEVENT
BEGIN:VEVENT
UID:32636561-6337-4336-a537-373031653233
DTSTAMP:20260420T070502Z
DESCRIPTION:
DTSTART:20211214T131500Z
DTEND:20211214T150000Z
LOCATION:HS001\, E1 3
SUMMARY:Ver2122: Lecture
END:VEVENT
BEGIN:VEVENT
UID:65343232-3365-4361-b366-343336313362
DTSTAMP:20260420T070502Z
DESCRIPTION:
DTSTART:20211215T091500Z
DTEND:20211215T110000Z
LOCATION:Room 106\, E1 1
SUMMARY:Ver2122: Office Hour
END:VEVENT
BEGIN:VEVENT
UID:34393530-3061-4163-b631-306330643637
DTSTAMP:20260420T070502Z
DESCRIPTION:
DTSTART:20211216T091500Z
DTEND:20211216T110000Z
LOCATION:HS001\, E1 3
SUMMARY:Ver2122: Lecture
END:VEVENT
BEGIN:VEVENT
UID:63386261-6435-4265-b164-386434626333
DTSTAMP:20260420T070502Z
DESCRIPTION:
DTSTART:20211217T091500Z
DTEND:20211217T110000Z
LOCATION:Room 206\, E1 1
SUMMARY:Ver2122: Tutorial 1
END:VEVENT
BEGIN:VEVENT
UID:34336537-6432-4735-a663-663963626166
DTSTAMP:20260420T070502Z
DESCRIPTION:
DTSTART:20211217T111500Z
DTEND:20211217T130000Z
LOCATION:Room 206\, E1 1
SUMMARY:Ver2122: Tutorial 2
END:VEVENT
BEGIN:VEVENT
UID:35313539-6631-4963-b264-663264303662
DTSTAMP:20260420T070502Z
DESCRIPTION:
DTSTART:20220104T131500Z
DTEND:20220104T150000Z
LOCATION:HS001\, E1 3
SUMMARY:Ver2122: Lecture
END:VEVENT
BEGIN:VEVENT
UID:62303664-6263-4462-a130-333832386566
DTSTAMP:20260420T070502Z
DESCRIPTION:
DTSTART:20220105T091500Z
DTEND:20220105T110000Z
LOCATION:Room 106\, E1 1
SUMMARY:Ver2122: Office Hour
END:VEVENT
BEGIN:VEVENT
UID:66633633-3332-4136-b861-373130623531
DTSTAMP:20260420T070502Z
DESCRIPTION:
DTSTART:20220106T091500Z
DTEND:20220106T110000Z
LOCATION:HS001\, E1 3
SUMMARY:Ver2122: Lecture
END:VEVENT
BEGIN:VEVENT
UID:39373362-3632-4535-b036-633661306539
DTSTAMP:20260420T070502Z
DESCRIPTION:
DTSTART:20220107T091500Z
DTEND:20220107T110000Z
LOCATION:Room 206\, E1 1
SUMMARY:Ver2122: Tutorial 1
END:VEVENT
BEGIN:VEVENT
UID:63646361-6332-4231-a461-323862366262
DTSTAMP:20260420T070502Z
DESCRIPTION:
DTSTART:20220107T111500Z
DTEND:20220107T130000Z
LOCATION:Room 206\, E1 1
SUMMARY:Ver2122: Tutorial 2
END:VEVENT
BEGIN:VEVENT
UID:62613034-3565-4065-b236-313935316362
DTSTAMP:20260420T070502Z
DESCRIPTION:
DTSTART:20220111T131500Z
DTEND:20220111T150000Z
LOCATION:HS001\, E1 3
SUMMARY:Ver2122: Lecture
END:VEVENT
BEGIN:VEVENT
UID:65666261-3162-4337-a131-626661336463
DTSTAMP:20260420T070502Z
DESCRIPTION:
DTSTART:20220112T091500Z
DTEND:20220112T110000Z
LOCATION:Room 106\, E1 1
SUMMARY:Ver2122: Office Hour
END:VEVENT
BEGIN:VEVENT
UID:65356134-3133-4566-b839-653164303635
DTSTAMP:20260420T070502Z
DESCRIPTION:
DTSTART:20220112T225900Z
DTEND:20220112T225900Z
SUMMARY:Ver2122: Project Part 2
END:VEVENT
BEGIN:VEVENT
UID:39616430-6334-4363-a162-646431636233
DTSTAMP:20260420T070502Z
DESCRIPTION:
DTSTART:20220113T091500Z
DTEND:20220113T110000Z
LOCATION:HS001\, E1 3
SUMMARY:Ver2122: Lecture
END:VEVENT
BEGIN:VEVENT
UID:36666630-3966-4839-a430-303763353734
DTSTAMP:20260420T070502Z
DESCRIPTION:
DTSTART:20220114T091500Z
DTEND:20220114T110000Z
LOCATION:Room 206\, E1 1
SUMMARY:Ver2122: Tutorial 1
END:VEVENT
BEGIN:VEVENT
UID:32376263-3538-4032-a232-633365353633
DTSTAMP:20260420T070502Z
DESCRIPTION:
DTSTART:20220114T111500Z
DTEND:20220114T130000Z
LOCATION:Room 206\, E1 1
SUMMARY:Ver2122: Tutorial 2
END:VEVENT
BEGIN:VEVENT
UID:36383139-6634-4561-b763-613334626266
DTSTAMP:20260420T070502Z
DESCRIPTION:
DTSTART:20220118T131500Z
DTEND:20220118T150000Z
LOCATION:HS001\, E1 3
SUMMARY:Ver2122: Lecture
END:VEVENT
BEGIN:VEVENT
UID:30633939-6530-4831-a432-346338383131
DTSTAMP:20260420T070502Z
DESCRIPTION:
DTSTART:20220119T091500Z
DTEND:20220119T110000Z
LOCATION:Room 106\, E1 1
SUMMARY:Ver2122: Office Hour
END:VEVENT
BEGIN:VEVENT
UID:64393933-6133-4336-b666-653834616362
DTSTAMP:20260420T070502Z
DESCRIPTION:
DTSTART:20220120T091500Z
DTEND:20220120T110000Z
LOCATION:HS001\, E1 3
SUMMARY:Ver2122: Lecture
END:VEVENT
BEGIN:VEVENT
UID:37333635-3162-4433-b439-326537656234
DTSTAMP:20260420T070502Z
DESCRIPTION:
DTSTART:20220121T091500Z
DTEND:20220121T110000Z
LOCATION:Room 206\, E1 1
SUMMARY:Ver2122: Tutorial 1
END:VEVENT
BEGIN:VEVENT
UID:35643562-3830-4063-b164-343862393361
DTSTAMP:20260420T070502Z
DESCRIPTION:
DTSTART:20220121T111500Z
DTEND:20220121T130000Z
LOCATION:Room 206\, E1 1
SUMMARY:Ver2122: Tutorial 2
END:VEVENT
BEGIN:VEVENT
UID:64326436-6362-4533-a465-643338326537
DTSTAMP:20260420T070502Z
DESCRIPTION:
DTSTART:20220125T131500Z
DTEND:20220125T150000Z
LOCATION:HS001\, E1 3
SUMMARY:Ver2122: Lecture
END:VEVENT
BEGIN:VEVENT
UID:39643139-6564-4336-b161-343635316331
DTSTAMP:20260420T070502Z
DESCRIPTION:
DTSTART:20220126T091500Z
DTEND:20220126T110000Z
LOCATION:Room 106\, E1 1
SUMMARY:Ver2122: Office Hour
END:VEVENT
BEGIN:VEVENT
UID:66636561-6530-4234-b764-613466643964
DTSTAMP:20260420T070502Z
DESCRIPTION:
DTSTART:20220127T091500Z
DTEND:20220127T110000Z
LOCATION:HS001\, E1 3
SUMMARY:Ver2122: Lecture
END:VEVENT
BEGIN:VEVENT
UID:65383066-3365-4664-b432-646665386535
DTSTAMP:20260420T070502Z
DESCRIPTION:
DTSTART:20220128T091500Z
DTEND:20220128T110000Z
LOCATION:Room 206\, E1 1
SUMMARY:Ver2122: Tutorial 1
END:VEVENT
BEGIN:VEVENT
UID:65353833-3033-4665-a337-306338666463
DTSTAMP:20260420T070502Z
DESCRIPTION:
DTSTART:20220128T111500Z
DTEND:20220128T130000Z
LOCATION:Room 206\, E1 1
SUMMARY:Ver2122: Tutorial 2
END:VEVENT
BEGIN:VEVENT
UID:30323936-3432-4434-b237-656634316464
DTSTAMP:20260420T070502Z
DESCRIPTION:
DTSTART:20220201T131500Z
DTEND:20220201T150000Z
LOCATION:HS001\, E1 3
SUMMARY:Ver2122: Lecture
END:VEVENT
BEGIN:VEVENT
UID:65346230-3231-4931-a539-646639653734
DTSTAMP:20260420T070502Z
DESCRIPTION:
DTSTART:20220202T091500Z
DTEND:20220202T110000Z
LOCATION:Room 106\, E1 1
SUMMARY:Ver2122: Office Hour
END:VEVENT
BEGIN:VEVENT
UID:35643731-6265-4162-b761-303137353263
DTSTAMP:20260420T070502Z
DESCRIPTION:
DTSTART:20220203T091500Z
DTEND:20220203T110000Z
LOCATION:HS001\, E1 3
SUMMARY:Ver2122: Lecture
END:VEVENT
BEGIN:VEVENT
UID:61326366-3534-4266-a463-353438653561
DTSTAMP:20260420T070502Z
DESCRIPTION:
DTSTART:20220204T091500Z
DTEND:20220204T110000Z
LOCATION:Room 206\, E1 1
SUMMARY:Ver2122: Tutorial 1
END:VEVENT
BEGIN:VEVENT
UID:32323637-3434-4134-b434-363363633838
DTSTAMP:20260420T070502Z
DESCRIPTION:
DTSTART:20220204T111500Z
DTEND:20220204T130000Z
LOCATION:Room 206\, E1 1
SUMMARY:Ver2122: Tutorial 2
END:VEVENT
BEGIN:VEVENT
UID:62373539-6636-4330-b163-396235623066
DTSTAMP:20260420T070502Z
DESCRIPTION:
DTSTART:20220208T131500Z
DTEND:20220208T150000Z
LOCATION:HS001\, E1 3
SUMMARY:Ver2122: Lecture
END:VEVENT
BEGIN:VEVENT
UID:66646366-3932-4331-b961-616132373763
DTSTAMP:20260420T070502Z
DESCRIPTION:
DTSTART:20220209T091500Z
DTEND:20220209T110000Z
LOCATION:Room 106\, E1 1
SUMMARY:Ver2122: Office Hour
END:VEVENT
BEGIN:VEVENT
UID:33306238-3036-4133-b837-333766306139
DTSTAMP:20260420T070502Z
DESCRIPTION:
DTSTART:20220210T091500Z
DTEND:20220210T110000Z
LOCATION:HS001\, E1 3
SUMMARY:Ver2122: Lecture
END:VEVENT
BEGIN:VEVENT
UID:36303637-3663-4563-b363-643763353034
DTSTAMP:20260420T070502Z
DESCRIPTION:
DTSTART:20220211T091500Z
DTEND:20220211T110000Z
LOCATION:Room 206\, E1 1
SUMMARY:Ver2122: Tutorial 1
END:VEVENT
BEGIN:VEVENT
UID:33356466-3438-4030-b334-363530343465
DTSTAMP:20260420T070502Z
DESCRIPTION:
DTSTART:20220211T111500Z
DTEND:20220211T130000Z
LOCATION:Room 206\, E1 1
SUMMARY:Ver2122: Tutorial 2
END:VEVENT
BEGIN:VEVENT
UID:62613364-3232-4761-b431-626635313233
DTSTAMP:20260420T070502Z
DESCRIPTION:
DTSTART:20220216T090000Z
DTEND:20220216T110000Z
LOCATION:MS Teams
SUMMARY:Ver2122: Office Hour
END:VEVENT
BEGIN:VEVENT
UID:34303666-6364-4332-b531-353763366666
DTSTAMP:20260420T070502Z
DESCRIPTION:
DTSTART:20220217T225900Z
DTEND:20220217T225900Z
SUMMARY:Ver2122: Project Part 3
END:VEVENT
BEGIN:VEVENT
UID:30656163-3262-4332-a433-623466616363
DTSTAMP:20260420T070502Z
DESCRIPTION:
DTSTART:20220221T090000Z
DTEND:20220221T110000Z
LOCATION:MS Teams
SUMMARY:Ver2122: Office Hour
END:VEVENT
BEGIN:VEVENT
UID:36363838-3662-4831-b066-643834333462
DTSTAMP:20260420T070502Z
DESCRIPTION:
DTSTART:20220225T130000Z
DTEND:20220225T153000Z
LOCATION:E2 2\, GHH
SUMMARY:Ver2122: Main Exam
END:VEVENT
BEGIN:VEVENT
UID:39623864-6332-4262-a431-663235653031
DTSTAMP:20260420T070502Z
DESCRIPTION:
DTSTART:20220328T070000Z
DTEND:20220328T093000Z
LOCATION:E2 2\, GHH
SUMMARY:Ver2122: Re-Exam
END:VEVENT
END:VCALENDAR
