BEGIN:VCALENDAR
VERSION:2.0
PRODID:-//127.0.1.1//NONSGML kigkonsult.se iCalcreator 2.41.92//
CALSCALE:GREGORIAN
METHOD:PUBLISH
UID:31663837-3033-4466-b862-353730323064
X-WR-CALNAME:Verification Calendar
X-WR-CALDESC:Events of the lecture Verification
X-WR-TIMEZONE:Europe/Berlin
BEGIN:VEVENT
UID:62643734-3863-4333-b036-383531386631
DTSTAMP:20260424T180229Z
DESCRIPTION:Mini-test + lecture
DTSTART:20231024T121500Z
DTEND:20231024T140000Z
LOCATION:E1 3\, Hörsaal 1
SUMMARY:Lecture
END:VEVENT
BEGIN:VEVENT
UID:61313065-3636-4636-a663-376135666163
DTSTAMP:20260424T180229Z
DESCRIPTION:
DTSTART:20231027T081500Z
DTEND:20231027T100000Z
LOCATION:E1 3\, Hörsaal 1
SUMMARY:Lecture
END:VEVENT
BEGIN:VEVENT
UID:62373363-3130-4135-b733-373266323563
DTSTAMP:20260424T180229Z
DESCRIPTION:Mini-test + lecture
DTSTART:20231031T131500Z
DTEND:20231031T150000Z
LOCATION:E1 3\, Hörsaal 1
SUMMARY:Lecture
END:VEVENT
BEGIN:VEVENT
UID:31393465-3233-4036-b538-386339326462
DTSTAMP:20260424T180229Z
DESCRIPTION:
DTSTART:20231103T091500Z
DTEND:20231103T110000Z
LOCATION:E1 3\, Hörsaal 1
SUMMARY:Lecture
END:VEVENT
BEGIN:VEVENT
UID:31353532-3033-4165-a663-323764333765
DTSTAMP:20260424T180229Z
DESCRIPTION:Mini-test + lecture
DTSTART:20231107T131500Z
DTEND:20231107T150000Z
LOCATION:E1 3\, Hörsaal 1
SUMMARY:Lecture
END:VEVENT
BEGIN:VEVENT
UID:64666637-3764-4362-b132-636131306363
DTSTAMP:20260424T180229Z
DESCRIPTION:
DTSTART:20231110T091500Z
DTEND:20231110T110000Z
LOCATION:E1 3\, Hörsaal 1
SUMMARY:Lecture
END:VEVENT
BEGIN:VEVENT
UID:61623165-3930-4038-b031-336139653530
DTSTAMP:20260424T180229Z
DESCRIPTION:Mini-test + lecture
DTSTART:20231114T131500Z
DTEND:20231114T150000Z
LOCATION:E1 3\, Hörsaal 1
SUMMARY:Lecture
END:VEVENT
BEGIN:VEVENT
UID:30326664-6363-4130-a561-306139636231
DTSTAMP:20260424T180229Z
DESCRIPTION:
DTSTART:20231117T091500Z
DTEND:20231117T110000Z
LOCATION:E1 3\, Hörsaal 1
SUMMARY:Lecture
END:VEVENT
BEGIN:VEVENT
UID:64396664-3836-4031-b162-316435663364
DTSTAMP:20260424T180229Z
DESCRIPTION:Mini-test + lecture
DTSTART:20231121T131500Z
DTEND:20231121T150000Z
LOCATION:E1 3\, Hörsaal 1
SUMMARY:Lecture
END:VEVENT
BEGIN:VEVENT
UID:35376532-6235-4531-b231-656131663064
DTSTAMP:20260424T180229Z
DESCRIPTION:
DTSTART:20231124T091500Z
DTEND:20231124T110000Z
LOCATION:E1 3\, Hörsaal 1
SUMMARY:Lecture
END:VEVENT
BEGIN:VEVENT
UID:65373431-3264-4536-b037-326563376130
DTSTAMP:20260424T180229Z
DESCRIPTION:Mini-test + lecture
DTSTART:20231128T131500Z
DTEND:20231128T150000Z
LOCATION:E1 3\, Hörsaal 1
SUMMARY:Lecture
END:VEVENT
BEGIN:VEVENT
UID:31356163-6638-4765-b139-313965343338
DTSTAMP:20260424T180229Z
DESCRIPTION:
DTSTART:20231201T091500Z
DTEND:20231201T110000Z
LOCATION:E1 3\, Hörsaal 1
SUMMARY:Lecture
END:VEVENT
BEGIN:VEVENT
UID:35303565-6537-4164-a631-356463613461
DTSTAMP:20260424T180229Z
DESCRIPTION:Mini-test + lecture
DTSTART:20231205T131500Z
DTEND:20231205T150000Z
LOCATION:E1 3\, Hörsaal 1
SUMMARY:Lecture
END:VEVENT
BEGIN:VEVENT
UID:39316535-6633-4330-b232-383739323566
DTSTAMP:20260424T180229Z
DESCRIPTION:
DTSTART:20231208T091500Z
DTEND:20231208T110000Z
LOCATION:E1 3\, Hörsaal 1
SUMMARY:Lecture
END:VEVENT
BEGIN:VEVENT
UID:65636334-3538-4032-b365-633237373466
DTSTAMP:20260424T180229Z
DESCRIPTION:Mini-test + lecture
DTSTART:20231212T131500Z
DTEND:20231212T150000Z
LOCATION:E1 3\, Hörsaal 1
SUMMARY:Lecture
END:VEVENT
BEGIN:VEVENT
UID:38643436-3836-4435-a462-346665323365
DTSTAMP:20260424T180229Z
DESCRIPTION:
DTSTART:20231215T091500Z
DTEND:20231215T110000Z
LOCATION:E1 3\, Hörsaal 1
SUMMARY:Lecture
END:VEVENT
BEGIN:VEVENT
UID:33313537-3832-4131-a439-626230616131
DTSTAMP:20260424T180229Z
DESCRIPTION:Mini-test + lecture
DTSTART:20231219T131500Z
DTEND:20231219T150000Z
LOCATION:E1 3\, Hörsaal 1
SUMMARY:Lecture
END:VEVENT
BEGIN:VEVENT
UID:37666338-3632-4131-b238-376165303138
DTSTAMP:20260424T180229Z
DESCRIPTION:
DTSTART:20231222T091500Z
DTEND:20231222T110000Z
LOCATION:E1 3\, Hörsaal 1
SUMMARY:Lecture
END:VEVENT
BEGIN:VEVENT
UID:34363630-6531-4730-b063-353231313933
DTSTAMP:20260424T180229Z
DESCRIPTION:Mini-test + lecture
DTSTART:20231226T131500Z
DTEND:20231226T150000Z
LOCATION:E1 3\, Hörsaal 1
SUMMARY:Lecture
END:VEVENT
BEGIN:VEVENT
UID:34333439-6535-4737-b163-626463636238
DTSTAMP:20260424T180229Z
DESCRIPTION:
DTSTART:20231229T091500Z
DTEND:20231229T110000Z
LOCATION:E1 3\, Hörsaal 1
SUMMARY:Lecture
END:VEVENT
BEGIN:VEVENT
UID:34326563-6532-4230-b461-383232623632
DTSTAMP:20260424T180229Z
DESCRIPTION:Mini-test + lecture
DTSTART:20240102T131500Z
DTEND:20240102T150000Z
LOCATION:E1 3\, Hörsaal 1
SUMMARY:Lecture
END:VEVENT
BEGIN:VEVENT
UID:31646161-3766-4639-b733-646136386536
DTSTAMP:20260424T180229Z
DESCRIPTION:
DTSTART:20240105T091500Z
DTEND:20240105T110000Z
LOCATION:E1 3\, Hörsaal 1
SUMMARY:Lecture
END:VEVENT
BEGIN:VEVENT
UID:64623866-6439-4330-b537-366532373965
DTSTAMP:20260424T180229Z
DESCRIPTION:Mini-test + lecture
DTSTART:20240109T131500Z
DTEND:20240109T150000Z
LOCATION:E1 3\, Hörsaal 1
SUMMARY:Lecture
END:VEVENT
BEGIN:VEVENT
UID:30633735-3564-4534-a162-366435356364
DTSTAMP:20260424T180229Z
DESCRIPTION:
DTSTART:20240112T091500Z
DTEND:20240112T110000Z
LOCATION:E1 3\, Hörsaal 1
SUMMARY:Lecture
END:VEVENT
BEGIN:VEVENT
UID:39383664-6534-4062-b238-353165393039
DTSTAMP:20260424T180229Z
DESCRIPTION:Mini-test + lecture
DTSTART:20240116T131500Z
DTEND:20240116T150000Z
LOCATION:E1 3\, Hörsaal 1
SUMMARY:Lecture
END:VEVENT
BEGIN:VEVENT
UID:34336262-3936-4264-b566-633435343334
DTSTAMP:20260424T180229Z
DESCRIPTION:
DTSTART:20240119T091500Z
DTEND:20240119T110000Z
LOCATION:E1 3\, Hörsaal 1
SUMMARY:Lecture
END:VEVENT
BEGIN:VEVENT
UID:63383766-3362-4534-b536-356562363461
DTSTAMP:20260424T180229Z
DESCRIPTION:Mini-test + lecture
DTSTART:20240123T131500Z
DTEND:20240123T150000Z
LOCATION:E1 3\, Hörsaal 1
SUMMARY:Lecture
END:VEVENT
BEGIN:VEVENT
UID:61343563-3732-4436-a364-653339353163
DTSTAMP:20260424T180229Z
DESCRIPTION:
DTSTART:20240126T091500Z
DTEND:20240126T110000Z
LOCATION:E1 3\, Hörsaal 1
SUMMARY:Lecture
END:VEVENT
BEGIN:VEVENT
UID:63633139-3839-4461-b630-303361663933
DTSTAMP:20260424T180229Z
DESCRIPTION:Mini-test + lecture
DTSTART:20240130T131500Z
DTEND:20240130T150000Z
LOCATION:E1 3\, Hörsaal 1
SUMMARY:Lecture
END:VEVENT
BEGIN:VEVENT
UID:66313631-6562-4566-a662-353262376163
DTSTAMP:20260424T180229Z
DESCRIPTION:
DTSTART:20240202T091500Z
DTEND:20240202T110000Z
LOCATION:E1 3\, Hörsaal 1
SUMMARY:Lecture
END:VEVENT
BEGIN:VEVENT
UID:38633931-3936-4162-b663-316531393761
DTSTAMP:20260424T180229Z
DESCRIPTION:Mini-test + lecture
DTSTART:20240206T131500Z
DTEND:20240206T150000Z
LOCATION:E1 3\, Hörsaal 1
SUMMARY:Lecture
END:VEVENT
BEGIN:VEVENT
UID:30363362-3735-4430-a331-313364393562
DTSTAMP:20260424T180229Z
DESCRIPTION:
DTSTART:20240209T091500Z
DTEND:20240209T110000Z
LOCATION:E1 3\, Hörsaal 1
SUMMARY:Lecture
END:VEVENT
END:VCALENDAR
