BEGIN:VCALENDAR
VERSION:2.0
PRODID:-//127.0.1.1//NONSGML kigkonsult.se iCalcreator 2.41.92//
CALSCALE:GREGORIAN
METHOD:PUBLISH
UID:62623965-6431-4536-a566-613830666464
X-WR-CALNAME:Verification Calendar
X-WR-CALDESC:Events of the lecture Verification
X-WR-TIMEZONE:Europe/Berlin
BEGIN:VEVENT
UID:39663036-3862-4830-b335-353964616562
DTSTAMP:20260424T164800Z
DESCRIPTION:
DTSTART:20231108T091500Z
DTEND:20231108T110000Z
LOCATION:E1 1\, Seminar Room 1.06
SUMMARY:Tutorial A
END:VEVENT
BEGIN:VEVENT
UID:65396437-6566-4263-b931-636562343933
DTSTAMP:20260424T164800Z
DESCRIPTION:
DTSTART:20231109T091500Z
DTEND:20231109T110000Z
LOCATION:E1 1\, Seminar Room 1.06
SUMMARY:Tutorial B
END:VEVENT
BEGIN:VEVENT
UID:35353161-3464-4939-b632-643535626434
DTSTAMP:20260424T164800Z
DESCRIPTION:
DTSTART:20231115T091500Z
DTEND:20231115T110000Z
LOCATION:E1 1\, Seminar Room 1.06
SUMMARY:Tutorial A
END:VEVENT
BEGIN:VEVENT
UID:38386235-6131-4639-b233-373662313131
DTSTAMP:20260424T164800Z
DESCRIPTION:
DTSTART:20231116T091500Z
DTEND:20231116T110000Z
LOCATION:E1 1\, Seminar Room 1.06
SUMMARY:Tutorial B
END:VEVENT
BEGIN:VEVENT
UID:66343539-6663-4335-b734-343930623764
DTSTAMP:20260424T164800Z
DESCRIPTION:
DTSTART:20231122T091500Z
DTEND:20231122T110000Z
LOCATION:E1 1\, Seminar Room 1.06
SUMMARY:Tutorial A
END:VEVENT
BEGIN:VEVENT
UID:64653265-3833-4538-b930-326130346365
DTSTAMP:20260424T164800Z
DESCRIPTION:
DTSTART:20231123T091500Z
DTEND:20231123T110000Z
LOCATION:E1 1\, Seminar Room 1.06
SUMMARY:Tutorial B
END:VEVENT
BEGIN:VEVENT
UID:35386634-3338-4237-b439-666333393234
DTSTAMP:20260424T164800Z
DESCRIPTION:
DTSTART:20231129T091500Z
DTEND:20231129T110000Z
LOCATION:E1 1\, Seminar Room 1.06
SUMMARY:Tutorial A
END:VEVENT
BEGIN:VEVENT
UID:39353561-6361-4565-b635-623332326539
DTSTAMP:20260424T164800Z
DESCRIPTION:
DTSTART:20231130T091500Z
DTEND:20231130T110000Z
LOCATION:E1 1\, Seminar Room 1.06
SUMMARY:Tutorial B
END:VEVENT
BEGIN:VEVENT
UID:66666163-3737-4162-b963-316537303761
DTSTAMP:20260424T164800Z
DESCRIPTION:
DTSTART:20231206T091500Z
DTEND:20231206T110000Z
LOCATION:E1 1\, Seminar Room 1.06
SUMMARY:Tutorial A
END:VEVENT
BEGIN:VEVENT
UID:61383134-3762-4265-b763-376665303962
DTSTAMP:20260424T164800Z
DESCRIPTION:
DTSTART:20231207T091500Z
DTEND:20231207T110000Z
LOCATION:E1 1\, Seminar Room 1.06
SUMMARY:Tutorial B
END:VEVENT
BEGIN:VEVENT
UID:64666233-6437-4336-b263-396162323138
DTSTAMP:20260424T164800Z
DESCRIPTION:
DTSTART:20231213T091500Z
DTEND:20231213T110000Z
LOCATION:E1 1\, Seminar Room 1.06
SUMMARY:Tutorial A
END:VEVENT
BEGIN:VEVENT
UID:33313132-3963-4138-a531-316638383663
DTSTAMP:20260424T164800Z
DESCRIPTION:
DTSTART:20231214T091500Z
DTEND:20231214T110000Z
LOCATION:E1 1\, Seminar Room 1.06
SUMMARY:Tutorial B
END:VEVENT
BEGIN:VEVENT
UID:38373036-3965-4732-b366-313130623763
DTSTAMP:20260424T164800Z
DESCRIPTION:
DTSTART:20231220T091500Z
DTEND:20231220T110000Z
LOCATION:E1 1\, Seminar Room 1.06
SUMMARY:Tutorial A
END:VEVENT
BEGIN:VEVENT
UID:30323639-3339-4730-b630-636630303834
DTSTAMP:20260424T164800Z
DESCRIPTION:
DTSTART:20231221T091500Z
DTEND:20231221T110000Z
LOCATION:E1 1\, Seminar Room 1.06
SUMMARY:Tutorial B
END:VEVENT
BEGIN:VEVENT
UID:36373465-3037-4339-a464-343830613066
DTSTAMP:20260424T164800Z
DESCRIPTION:
DTSTART:20231227T091500Z
DTEND:20231227T110000Z
LOCATION:E1 1\, Seminar Room 1.06
SUMMARY:Tutorial A
END:VEVENT
BEGIN:VEVENT
UID:33353561-6462-4932-a339-636438343066
DTSTAMP:20260424T164800Z
DESCRIPTION:
DTSTART:20231228T091500Z
DTEND:20231228T110000Z
LOCATION:E1 1\, Seminar Room 1.06
SUMMARY:Tutorial B
END:VEVENT
BEGIN:VEVENT
UID:63393334-6335-4364-b735-323663353437
DTSTAMP:20260424T164800Z
DESCRIPTION:
DTSTART:20240103T091500Z
DTEND:20240103T110000Z
LOCATION:E1 1\, Seminar Room 1.06
SUMMARY:Tutorial A
END:VEVENT
BEGIN:VEVENT
UID:30643161-3738-4335-a161-363132623730
DTSTAMP:20260424T164800Z
DESCRIPTION:
DTSTART:20240104T091500Z
DTEND:20240104T110000Z
LOCATION:E1 1\, Seminar Room 1.06
SUMMARY:Tutorial B
END:VEVENT
BEGIN:VEVENT
UID:65626637-6335-4635-b032-616338373730
DTSTAMP:20260424T164800Z
DESCRIPTION:
DTSTART:20240110T091500Z
DTEND:20240110T110000Z
LOCATION:E1 1\, Seminar Room 1.06
SUMMARY:Tutorial A
END:VEVENT
BEGIN:VEVENT
UID:62656261-6462-4662-a134-366165663538
DTSTAMP:20260424T164800Z
DESCRIPTION:
DTSTART:20240111T091500Z
DTEND:20240111T110000Z
LOCATION:E1 1\, Seminar Room 1.06
SUMMARY:Tutorial B
END:VEVENT
BEGIN:VEVENT
UID:62373432-3236-4366-b732-663830663065
DTSTAMP:20260424T164800Z
DESCRIPTION:
DTSTART:20240117T091500Z
DTEND:20240117T110000Z
LOCATION:E1 1\, Seminar Room 1.06
SUMMARY:Tutorial A
END:VEVENT
BEGIN:VEVENT
UID:35393938-3738-4266-b238-643366376138
DTSTAMP:20260424T164800Z
DESCRIPTION:
DTSTART:20240118T091500Z
DTEND:20240118T110000Z
LOCATION:E1 1\, Seminar Room 1.06
SUMMARY:Tutorial B
END:VEVENT
BEGIN:VEVENT
UID:32663339-3861-4039-a330-383638653865
DTSTAMP:20260424T164800Z
DESCRIPTION:
DTSTART:20240124T091500Z
DTEND:20240124T110000Z
LOCATION:E1 1\, Seminar Room 1.06
SUMMARY:Tutorial A
END:VEVENT
BEGIN:VEVENT
UID:32653431-3234-4534-b332-653961383664
DTSTAMP:20260424T164800Z
DESCRIPTION:
DTSTART:20240125T091500Z
DTEND:20240125T110000Z
LOCATION:E1 1\, Seminar Room 1.06
SUMMARY:Tutorial B
END:VEVENT
BEGIN:VEVENT
UID:64346530-3632-4335-a438-666230393763
DTSTAMP:20260424T164800Z
DESCRIPTION:
DTSTART:20240131T091500Z
DTEND:20240131T110000Z
LOCATION:E1 1\, Seminar Room 1.06
SUMMARY:Tutorial A
END:VEVENT
BEGIN:VEVENT
UID:36316337-6364-4961-b361-386562636338
DTSTAMP:20260424T164800Z
DESCRIPTION:
DTSTART:20240201T091500Z
DTEND:20240201T110000Z
LOCATION:E1 1\, Seminar Room 1.06
SUMMARY:Tutorial B
END:VEVENT
BEGIN:VEVENT
UID:61633331-3930-4438-b838-653230393834
DTSTAMP:20260424T164800Z
DESCRIPTION:
DTSTART:20240207T091500Z
DTEND:20240207T110000Z
LOCATION:E1 1\, Seminar Room 1.06
SUMMARY:Tutorial A
END:VEVENT
BEGIN:VEVENT
UID:61653930-3431-4566-b735-613566376466
DTSTAMP:20260424T164800Z
DESCRIPTION:
DTSTART:20240208T091500Z
DTEND:20240208T110000Z
LOCATION:E1 1\, Seminar Room 1.06
SUMMARY:Tutorial B
END:VEVENT
END:VCALENDAR
