BEGIN:VCALENDAR
VERSION:2.0
PRODID:-//127.0.1.1//NONSGML kigkonsult.se iCalcreator 2.41.92//
CALSCALE:GREGORIAN
METHOD:PUBLISH
UID:33383762-6636-4262-b439-303933663731
X-WR-CALNAME:Verification Calendar
X-WR-CALDESC:Events of the lecture Verification
X-WR-TIMEZONE:Europe/Berlin
BEGIN:VEVENT
UID:39376565-6435-4038-a331-393861316332
DTSTAMP:20260424T164907Z
DESCRIPTION:Mini-test + lecture
DTSTART:20231024T121500Z
DTEND:20231024T140000Z
LOCATION:E1 3\, Hörsaal 1
SUMMARY:Ver2324: Lecture
END:VEVENT
BEGIN:VEVENT
UID:66653034-3965-4363-b438-346266316438
DTSTAMP:20260424T164907Z
DESCRIPTION:
DTSTART:20231027T081500Z
DTEND:20231027T100000Z
LOCATION:E1 3\, Hörsaal 1
SUMMARY:Ver2324: Lecture
END:VEVENT
BEGIN:VEVENT
UID:63343734-3665-4632-a538-623062363631
DTSTAMP:20260424T164907Z
DESCRIPTION:Mini-test + lecture
DTSTART:20231031T131500Z
DTEND:20231031T150000Z
LOCATION:E1 3\, Hörsaal 1
SUMMARY:Ver2324: Lecture
END:VEVENT
BEGIN:VEVENT
UID:32643561-3235-4135-b538-386137373038
DTSTAMP:20260424T164907Z
DESCRIPTION:
DTSTART:20231103T091500Z
DTEND:20231103T110000Z
LOCATION:E1 3\, Hörsaal 1
SUMMARY:Ver2324: Lecture
END:VEVENT
BEGIN:VEVENT
UID:66306531-6665-4437-a338-376135396339
DTSTAMP:20260424T164907Z
DESCRIPTION:Mini-test + lecture
DTSTART:20231107T131500Z
DTEND:20231107T150000Z
LOCATION:E1 3\, Hörsaal 1
SUMMARY:Ver2324: Lecture
END:VEVENT
BEGIN:VEVENT
UID:34643164-6630-4238-b561-663734663738
DTSTAMP:20260424T164907Z
DESCRIPTION:
DTSTART:20231108T091500Z
DTEND:20231108T110000Z
LOCATION:E1 1\, Seminar Room 1.06
SUMMARY:Ver2324: Tutorial A
END:VEVENT
BEGIN:VEVENT
UID:63366330-3865-4937-a131-303332616164
DTSTAMP:20260424T164907Z
DESCRIPTION:
DTSTART:20231109T091500Z
DTEND:20231109T110000Z
LOCATION:E1 1\, Seminar Room 1.06
SUMMARY:Ver2324: Tutorial B
END:VEVENT
BEGIN:VEVENT
UID:37363764-6232-4361-b936-626133303466
DTSTAMP:20260424T164907Z
DESCRIPTION:
DTSTART:20231110T091500Z
DTEND:20231110T110000Z
LOCATION:E1 3\, Hörsaal 1
SUMMARY:Ver2324: Lecture
END:VEVENT
BEGIN:VEVENT
UID:39643263-6638-4330-b665-356664336562
DTSTAMP:20260424T164907Z
DESCRIPTION:Mini-test + lecture
DTSTART:20231114T131500Z
DTEND:20231114T150000Z
LOCATION:E1 3\, Hörsaal 1
SUMMARY:Ver2324: Lecture
END:VEVENT
BEGIN:VEVENT
UID:33346539-6666-4861-b030-303835386137
DTSTAMP:20260424T164907Z
DESCRIPTION:
DTSTART:20231115T091500Z
DTEND:20231115T110000Z
LOCATION:E1 1\, Seminar Room 1.06
SUMMARY:Ver2324: Tutorial A
END:VEVENT
BEGIN:VEVENT
UID:35623531-6639-4837-b031-396634636232
DTSTAMP:20260424T164907Z
DESCRIPTION:
DTSTART:20231116T091500Z
DTEND:20231116T110000Z
LOCATION:E1 1\, Seminar Room 1.06
SUMMARY:Ver2324: Tutorial B
END:VEVENT
BEGIN:VEVENT
UID:64333439-3730-4266-b564-316233613864
DTSTAMP:20260424T164907Z
DESCRIPTION:
DTSTART:20231117T091500Z
DTEND:20231117T110000Z
LOCATION:E1 3\, Hörsaal 1
SUMMARY:Ver2324: Lecture
END:VEVENT
BEGIN:VEVENT
UID:36386562-3436-4436-b233-636637643364
DTSTAMP:20260424T164907Z
DESCRIPTION:Mini-test + lecture
DTSTART:20231121T131500Z
DTEND:20231121T150000Z
LOCATION:E1 3\, Hörsaal 1
SUMMARY:Ver2324: Lecture
END:VEVENT
BEGIN:VEVENT
UID:63326631-6637-4839-b464-393737623430
DTSTAMP:20260424T164907Z
DESCRIPTION:
DTSTART:20231122T091500Z
DTEND:20231122T110000Z
LOCATION:E1 1\, Seminar Room 1.06
SUMMARY:Ver2324: Tutorial A
END:VEVENT
BEGIN:VEVENT
UID:33613331-6235-4362-a135-313233656432
DTSTAMP:20260424T164907Z
DESCRIPTION:
DTSTART:20231123T091500Z
DTEND:20231123T110000Z
LOCATION:E1 1\, Seminar Room 1.06
SUMMARY:Ver2324: Tutorial B
END:VEVENT
BEGIN:VEVENT
UID:39633133-6664-4464-b036-363465663239
DTSTAMP:20260424T164907Z
DESCRIPTION:
DTSTART:20231124T091500Z
DTEND:20231124T110000Z
LOCATION:E1 3\, Hörsaal 1
SUMMARY:Ver2324: Lecture
END:VEVENT
BEGIN:VEVENT
UID:66616562-3334-4461-a532-386139353034
DTSTAMP:20260424T164907Z
DESCRIPTION:Mini-test + lecture
DTSTART:20231128T131500Z
DTEND:20231128T150000Z
LOCATION:E1 3\, Hörsaal 1
SUMMARY:Ver2324: Lecture
END:VEVENT
BEGIN:VEVENT
UID:65333037-6331-4232-b364-306538656166
DTSTAMP:20260424T164907Z
DESCRIPTION:
DTSTART:20231129T091500Z
DTEND:20231129T110000Z
LOCATION:E1 1\, Seminar Room 1.06
SUMMARY:Ver2324: Tutorial A
END:VEVENT
BEGIN:VEVENT
UID:38393134-3564-4263-b736-623164336262
DTSTAMP:20260424T164907Z
DESCRIPTION:
DTSTART:20231130T091500Z
DTEND:20231130T110000Z
LOCATION:E1 1\, Seminar Room 1.06
SUMMARY:Ver2324: Tutorial B
END:VEVENT
BEGIN:VEVENT
UID:30613930-3435-4631-a430-333865313736
DTSTAMP:20260424T164907Z
DESCRIPTION:
DTSTART:20231201T091500Z
DTEND:20231201T110000Z
LOCATION:E1 3\, Hörsaal 1
SUMMARY:Ver2324: Lecture
END:VEVENT
BEGIN:VEVENT
UID:37323932-3362-4134-a535-356334356661
DTSTAMP:20260424T164907Z
DESCRIPTION:Mini-test + lecture
DTSTART:20231205T131500Z
DTEND:20231205T150000Z
LOCATION:E1 3\, Hörsaal 1
SUMMARY:Ver2324: Lecture
END:VEVENT
BEGIN:VEVENT
UID:63313938-6265-4032-b966-666335366632
DTSTAMP:20260424T164907Z
DESCRIPTION:
DTSTART:20231206T091500Z
DTEND:20231206T110000Z
LOCATION:E1 1\, Seminar Room 1.06
SUMMARY:Ver2324: Tutorial A
END:VEVENT
BEGIN:VEVENT
UID:33346533-6662-4632-b266-613139366164
DTSTAMP:20260424T164907Z
DESCRIPTION:
DTSTART:20231207T091500Z
DTEND:20231207T110000Z
LOCATION:E1 1\, Seminar Room 1.06
SUMMARY:Ver2324: Tutorial B
END:VEVENT
BEGIN:VEVENT
UID:66343066-6537-4730-b130-366535353239
DTSTAMP:20260424T164907Z
DESCRIPTION:
DTSTART:20231208T091500Z
DTEND:20231208T110000Z
LOCATION:E1 3\, Hörsaal 1
SUMMARY:Ver2324: Lecture
END:VEVENT
BEGIN:VEVENT
UID:63623439-6538-4531-b231-323561626338
DTSTAMP:20260424T164907Z
DESCRIPTION:Mini-test + lecture
DTSTART:20231212T131500Z
DTEND:20231212T150000Z
LOCATION:E1 3\, Hörsaal 1
SUMMARY:Ver2324: Lecture
END:VEVENT
BEGIN:VEVENT
UID:36306432-6262-4364-a464-643662393261
DTSTAMP:20260424T164907Z
DESCRIPTION:
DTSTART:20231213T091500Z
DTEND:20231213T110000Z
LOCATION:E1 1\, Seminar Room 1.06
SUMMARY:Ver2324: Tutorial A
END:VEVENT
BEGIN:VEVENT
UID:66383831-3632-4839-a163-353361666165
DTSTAMP:20260424T164907Z
DESCRIPTION:
DTSTART:20231214T091500Z
DTEND:20231214T110000Z
LOCATION:E1 1\, Seminar Room 1.06
SUMMARY:Ver2324: Tutorial B
END:VEVENT
BEGIN:VEVENT
UID:63383933-3964-4639-b133-376435613935
DTSTAMP:20260424T164907Z
DESCRIPTION:
DTSTART:20231215T091500Z
DTEND:20231215T110000Z
LOCATION:E1 3\, Hörsaal 1
SUMMARY:Ver2324: Lecture
END:VEVENT
BEGIN:VEVENT
UID:63336662-6230-4634-a131-623363616435
DTSTAMP:20260424T164907Z
DESCRIPTION:Mini-test + lecture
DTSTART:20231219T131500Z
DTEND:20231219T150000Z
LOCATION:E1 3\, Hörsaal 1
SUMMARY:Ver2324: Lecture
END:VEVENT
BEGIN:VEVENT
UID:37356161-3164-4162-b131-333634626363
DTSTAMP:20260424T164907Z
DESCRIPTION:
DTSTART:20231220T091500Z
DTEND:20231220T110000Z
LOCATION:E1 1\, Seminar Room 1.06
SUMMARY:Ver2324: Tutorial A
END:VEVENT
BEGIN:VEVENT
UID:39326136-6631-4763-a139-336633343730
DTSTAMP:20260424T164907Z
DESCRIPTION:
DTSTART:20231221T091500Z
DTEND:20231221T110000Z
LOCATION:E1 1\, Seminar Room 1.06
SUMMARY:Ver2324: Tutorial B
END:VEVENT
BEGIN:VEVENT
UID:32333638-6538-4334-b737-346336396539
DTSTAMP:20260424T164907Z
DESCRIPTION:
DTSTART:20231222T091500Z
DTEND:20231222T110000Z
LOCATION:E1 3\, Hörsaal 1
SUMMARY:Ver2324: Lecture
END:VEVENT
BEGIN:VEVENT
UID:34663732-6231-4164-a636-386463666238
DTSTAMP:20260424T164907Z
DESCRIPTION:Mini-test + lecture
DTSTART:20231226T131500Z
DTEND:20231226T150000Z
LOCATION:E1 3\, Hörsaal 1
SUMMARY:Ver2324: Lecture
END:VEVENT
BEGIN:VEVENT
UID:35393539-3939-4834-b436-343031343061
DTSTAMP:20260424T164907Z
DESCRIPTION:
DTSTART:20231227T091500Z
DTEND:20231227T110000Z
LOCATION:E1 1\, Seminar Room 1.06
SUMMARY:Ver2324: Tutorial A
END:VEVENT
BEGIN:VEVENT
UID:39636666-6430-4130-a234-316236303232
DTSTAMP:20260424T164907Z
DESCRIPTION:
DTSTART:20231228T091500Z
DTEND:20231228T110000Z
LOCATION:E1 1\, Seminar Room 1.06
SUMMARY:Ver2324: Tutorial B
END:VEVENT
BEGIN:VEVENT
UID:37646334-3134-4235-b636-333937393137
DTSTAMP:20260424T164907Z
DESCRIPTION:
DTSTART:20231229T091500Z
DTEND:20231229T110000Z
LOCATION:E1 3\, Hörsaal 1
SUMMARY:Ver2324: Lecture
END:VEVENT
BEGIN:VEVENT
UID:34636134-3137-4466-b365-313462323966
DTSTAMP:20260424T164907Z
DESCRIPTION:Mini-test + lecture
DTSTART:20240102T131500Z
DTEND:20240102T150000Z
LOCATION:E1 3\, Hörsaal 1
SUMMARY:Ver2324: Lecture
END:VEVENT
BEGIN:VEVENT
UID:63343832-3138-4535-a637-663534373231
DTSTAMP:20260424T164907Z
DESCRIPTION:
DTSTART:20240103T091500Z
DTEND:20240103T110000Z
LOCATION:E1 1\, Seminar Room 1.06
SUMMARY:Ver2324: Tutorial A
END:VEVENT
BEGIN:VEVENT
UID:65393637-6636-4965-b530-623263363737
DTSTAMP:20260424T164907Z
DESCRIPTION:
DTSTART:20240104T091500Z
DTEND:20240104T110000Z
LOCATION:E1 1\, Seminar Room 1.06
SUMMARY:Ver2324: Tutorial B
END:VEVENT
BEGIN:VEVENT
UID:64326461-3034-4364-b736-343934363135
DTSTAMP:20260424T164907Z
DESCRIPTION:
DTSTART:20240105T091500Z
DTEND:20240105T110000Z
LOCATION:E1 3\, Hörsaal 1
SUMMARY:Ver2324: Lecture
END:VEVENT
BEGIN:VEVENT
UID:34346363-6336-4934-b539-356531643530
DTSTAMP:20260424T164907Z
DESCRIPTION:Mini-test + lecture
DTSTART:20240109T131500Z
DTEND:20240109T150000Z
LOCATION:E1 3\, Hörsaal 1
SUMMARY:Ver2324: Lecture
END:VEVENT
BEGIN:VEVENT
UID:65663063-3061-4333-b461-626564346632
DTSTAMP:20260424T164907Z
DESCRIPTION:
DTSTART:20240110T091500Z
DTEND:20240110T110000Z
LOCATION:E1 1\, Seminar Room 1.06
SUMMARY:Ver2324: Tutorial A
END:VEVENT
BEGIN:VEVENT
UID:39613037-3363-4230-a661-386231616364
DTSTAMP:20260424T164907Z
DESCRIPTION:
DTSTART:20240111T091500Z
DTEND:20240111T110000Z
LOCATION:E1 1\, Seminar Room 1.06
SUMMARY:Ver2324: Tutorial B
END:VEVENT
BEGIN:VEVENT
UID:32343262-6331-4530-b035-376133333036
DTSTAMP:20260424T164907Z
DESCRIPTION:
DTSTART:20240112T091500Z
DTEND:20240112T110000Z
LOCATION:E1 3\, Hörsaal 1
SUMMARY:Ver2324: Lecture
END:VEVENT
BEGIN:VEVENT
UID:31653162-6336-4132-b134-323163383335
DTSTAMP:20260424T164907Z
DESCRIPTION:Mini-test + lecture
DTSTART:20240116T131500Z
DTEND:20240116T150000Z
LOCATION:E1 3\, Hörsaal 1
SUMMARY:Ver2324: Lecture
END:VEVENT
BEGIN:VEVENT
UID:62336435-3032-4862-a134-333937366265
DTSTAMP:20260424T164907Z
DESCRIPTION:
DTSTART:20240117T091500Z
DTEND:20240117T110000Z
LOCATION:E1 1\, Seminar Room 1.06
SUMMARY:Ver2324: Tutorial A
END:VEVENT
BEGIN:VEVENT
UID:32666335-6430-4334-b637-636233323633
DTSTAMP:20260424T164907Z
DESCRIPTION:
DTSTART:20240118T091500Z
DTEND:20240118T110000Z
LOCATION:E1 1\, Seminar Room 1.06
SUMMARY:Ver2324: Tutorial B
END:VEVENT
BEGIN:VEVENT
UID:38643563-3831-4231-a533-303563383934
DTSTAMP:20260424T164907Z
DESCRIPTION:
DTSTART:20240119T091500Z
DTEND:20240119T110000Z
LOCATION:E1 3\, Hörsaal 1
SUMMARY:Ver2324: Lecture
END:VEVENT
BEGIN:VEVENT
UID:36386262-3733-4930-b963-343338613532
DTSTAMP:20260424T164907Z
DESCRIPTION:Mini-test + lecture
DTSTART:20240123T131500Z
DTEND:20240123T150000Z
LOCATION:E1 3\, Hörsaal 1
SUMMARY:Ver2324: Lecture
END:VEVENT
BEGIN:VEVENT
UID:31346261-3839-4964-a539-366562326236
DTSTAMP:20260424T164907Z
DESCRIPTION:
DTSTART:20240124T091500Z
DTEND:20240124T110000Z
LOCATION:E1 1\, Seminar Room 1.06
SUMMARY:Ver2324: Tutorial A
END:VEVENT
BEGIN:VEVENT
UID:66323839-6361-4536-a631-383631663063
DTSTAMP:20260424T164907Z
DESCRIPTION:
DTSTART:20240125T091500Z
DTEND:20240125T110000Z
LOCATION:E1 1\, Seminar Room 1.06
SUMMARY:Ver2324: Tutorial B
END:VEVENT
BEGIN:VEVENT
UID:61343862-6562-4337-b131-656361633834
DTSTAMP:20260424T164907Z
DESCRIPTION:
DTSTART:20240126T091500Z
DTEND:20240126T110000Z
LOCATION:E1 3\, Hörsaal 1
SUMMARY:Ver2324: Lecture
END:VEVENT
BEGIN:VEVENT
UID:66363237-3462-4533-b836-393633653232
DTSTAMP:20260424T164907Z
DESCRIPTION:Mini-test + lecture
DTSTART:20240130T131500Z
DTEND:20240130T150000Z
LOCATION:E1 3\, Hörsaal 1
SUMMARY:Ver2324: Lecture
END:VEVENT
BEGIN:VEVENT
UID:65366638-3738-4666-a630-326435623138
DTSTAMP:20260424T164907Z
DESCRIPTION:
DTSTART:20240131T091500Z
DTEND:20240131T110000Z
LOCATION:E1 1\, Seminar Room 1.06
SUMMARY:Ver2324: Tutorial A
END:VEVENT
BEGIN:VEVENT
UID:39626239-6664-4033-b535-306631366630
DTSTAMP:20260424T164907Z
DESCRIPTION:
DTSTART:20240201T091500Z
DTEND:20240201T110000Z
LOCATION:E1 1\, Seminar Room 1.06
SUMMARY:Ver2324: Tutorial B
END:VEVENT
BEGIN:VEVENT
UID:31353966-3334-4534-a539-393237656661
DTSTAMP:20260424T164907Z
DESCRIPTION:
DTSTART:20240202T091500Z
DTEND:20240202T110000Z
LOCATION:E1 3\, Hörsaal 1
SUMMARY:Ver2324: Lecture
END:VEVENT
BEGIN:VEVENT
UID:64613431-6363-4964-a133-666361343661
DTSTAMP:20260424T164907Z
DESCRIPTION:Mini-test + lecture
DTSTART:20240206T131500Z
DTEND:20240206T150000Z
LOCATION:E1 3\, Hörsaal 1
SUMMARY:Ver2324: Lecture
END:VEVENT
BEGIN:VEVENT
UID:36353732-6163-4732-a635-343835356234
DTSTAMP:20260424T164907Z
DESCRIPTION:
DTSTART:20240207T091500Z
DTEND:20240207T110000Z
LOCATION:E1 1\, Seminar Room 1.06
SUMMARY:Ver2324: Tutorial A
END:VEVENT
BEGIN:VEVENT
UID:30666634-6232-4466-b261-393963643636
DTSTAMP:20260424T164907Z
DESCRIPTION:
DTSTART:20240208T091500Z
DTEND:20240208T110000Z
LOCATION:E1 1\, Seminar Room 1.06
SUMMARY:Ver2324: Tutorial B
END:VEVENT
BEGIN:VEVENT
UID:61336662-3238-4339-b936-363437366361
DTSTAMP:20260424T164907Z
DESCRIPTION:
DTSTART:20240209T091500Z
DTEND:20240209T110000Z
LOCATION:E1 3\, Hörsaal 1
SUMMARY:Ver2324: Lecture
END:VEVENT
END:VCALENDAR
